BEGIN:VCALENDAR
VERSION:2.0
PRODID:-//St Croix Calendar Weekly Events Music US Virgin Islands - ECPv6.15.20//NONSGML v1.0//EN
CALSCALE:GREGORIAN
METHOD:PUBLISH
X-WR-CALNAME:St Croix Calendar Weekly Events Music US Virgin Islands
X-ORIGINAL-URL:https://stxcalendar.com
X-WR-CALDESC:Events for St Croix Calendar Weekly Events Music US Virgin Islands
REFRESH-INTERVAL;VALUE=DURATION:PT1H
X-Robots-Tag:noindex
X-PUBLISHED-TTL:PT1H
BEGIN:VTIMEZONE
TZID:America/St_Thomas
BEGIN:STANDARD
TZOFFSETFROM:-0400
TZOFFSETTO:-0400
TZNAME:AST
DTSTART:20250101T000000
END:STANDARD
END:VTIMEZONE
BEGIN:VEVENT
DTSTART;TZID=America/St_Thomas:20260424T200000
DTEND;TZID=America/St_Thomas:20260424T220000
DTSTAMP:20260420T175601
CREATED:20260122T192605Z
LAST-MODIFIED:20260122T192607Z
UID:10014961-1777060800-1777068000@stxcalendar.com
SUMMARY:No Problemo
DESCRIPTION:
URL:https://stxcalendar.com/events-calendar/no-problemo-3/2026-04-24/
LOCATION:Common Cents Pub\, 2110 Company Street\, Christiansted\, VI\, 00820\, Virgin Islands (U.S.)
CATEGORIES:Live Music
GEO:17.7455726;-64.7035386
X-APPLE-STRUCTURED-LOCATION;VALUE=URI;X-ADDRESS=Common Cents Pub 2110 Company Street Christiansted VI 00820 Virgin Islands (U.S.);X-APPLE-RADIUS=500;X-TITLE=2110 Company Street:geo:-64.7035386,17.7455726
END:VEVENT
BEGIN:VEVENT
DTSTART;TZID=America/St_Thomas:20260425T200000
DTEND;TZID=America/St_Thomas:20260425T235900
DTSTAMP:20260420T175601
CREATED:20260327T183419Z
LAST-MODIFIED:20260327T183420Z
UID:10015488-1777147200-1777161540@stxcalendar.com
SUMMARY:Karaoke
DESCRIPTION:
URL:https://stxcalendar.com/events-calendar/karaoke-13/2026-04-25/
LOCATION:Common Cents Pub\, 2110 Company Street\, Christiansted\, VI\, 00820\, Virgin Islands (U.S.)
CATEGORIES:Karaoke
GEO:17.7455726;-64.7035386
X-APPLE-STRUCTURED-LOCATION;VALUE=URI;X-ADDRESS=Common Cents Pub 2110 Company Street Christiansted VI 00820 Virgin Islands (U.S.);X-APPLE-RADIUS=500;X-TITLE=2110 Company Street:geo:-64.7035386,17.7455726
END:VEVENT
BEGIN:VEVENT
DTSTART;TZID=America/St_Thomas:20260502T200000
DTEND;TZID=America/St_Thomas:20260502T235900
DTSTAMP:20260420T175601
CREATED:20260327T183419Z
LAST-MODIFIED:20260327T183420Z
UID:10015489-1777752000-1777766340@stxcalendar.com
SUMMARY:Karaoke
DESCRIPTION:
URL:https://stxcalendar.com/events-calendar/karaoke-13/2026-05-02/
LOCATION:Common Cents Pub\, 2110 Company Street\, Christiansted\, VI\, 00820\, Virgin Islands (U.S.)
CATEGORIES:Karaoke
GEO:17.7455726;-64.7035386
X-APPLE-STRUCTURED-LOCATION;VALUE=URI;X-ADDRESS=Common Cents Pub 2110 Company Street Christiansted VI 00820 Virgin Islands (U.S.);X-APPLE-RADIUS=500;X-TITLE=2110 Company Street:geo:-64.7035386,17.7455726
END:VEVENT
BEGIN:VEVENT
DTSTART;TZID=America/St_Thomas:20260509T200000
DTEND;TZID=America/St_Thomas:20260509T235900
DTSTAMP:20260420T175601
CREATED:20260327T183419Z
LAST-MODIFIED:20260327T183420Z
UID:10015490-1778356800-1778371140@stxcalendar.com
SUMMARY:Karaoke
DESCRIPTION:
URL:https://stxcalendar.com/events-calendar/karaoke-13/2026-05-09/
LOCATION:Common Cents Pub\, 2110 Company Street\, Christiansted\, VI\, 00820\, Virgin Islands (U.S.)
CATEGORIES:Karaoke
GEO:17.7455726;-64.7035386
X-APPLE-STRUCTURED-LOCATION;VALUE=URI;X-ADDRESS=Common Cents Pub 2110 Company Street Christiansted VI 00820 Virgin Islands (U.S.);X-APPLE-RADIUS=500;X-TITLE=2110 Company Street:geo:-64.7035386,17.7455726
END:VEVENT
END:VCALENDAR