BEGIN:VCALENDAR
VERSION:2.0
PRODID:-//St Croix Calendar Weekly Events Music US Virgin Islands - ECPv6.15.20//NONSGML v1.0//EN
CALSCALE:GREGORIAN
METHOD:PUBLISH
X-ORIGINAL-URL:https://stxcalendar.com
X-WR-CALDESC:Events for St Croix Calendar Weekly Events Music US Virgin Islands
REFRESH-INTERVAL;VALUE=DURATION:PT1H
X-Robots-Tag:noindex
X-PUBLISHED-TTL:PT1H
BEGIN:VTIMEZONE
TZID:America/St_Thomas
BEGIN:STANDARD
TZOFFSETFROM:-0400
TZOFFSETTO:-0400
TZNAME:AST
DTSTART:20250101T000000
END:STANDARD
END:VTIMEZONE
BEGIN:VEVENT
DTSTART;TZID=America/St_Thomas:20260424T200000
DTEND;TZID=America/St_Thomas:20260424T235900
DTSTAMP:20260424T035150
CREATED:20260327T183104Z
LAST-MODIFIED:20260327T183105Z
UID:10015475-1777060800-1777075140@stxcalendar.com
SUMMARY:Karaoke
DESCRIPTION:Upstairs on the Brew Deck!
URL:https://stxcalendar.com/events-calendar/karaoke-12/2026-04-24/
LOCATION:Brew STX\, 55 A&B Kings Alley\, Christiansted\, VI\, 00820\, Virgin Islands (U.S.)
CATEGORIES:Karaoke
ATTACH;FMTTYPE=image/jpeg:https://stxcalendar.com/wp-content/uploads/2026/03/karaoke-at-brew-stx-e1774636066686.jpg
GEO:17.7468717;-64.703913
X-APPLE-STRUCTURED-LOCATION;VALUE=URI;X-ADDRESS=Brew STX 55 A&B Kings Alley Christiansted VI 00820 Virgin Islands (U.S.);X-APPLE-RADIUS=500;X-TITLE=55 A&B Kings Alley:geo:-64.703913,17.7468717
END:VEVENT
BEGIN:VEVENT
DTSTART;TZID=America/St_Thomas:20260427T170000
DTEND;TZID=America/St_Thomas:20260427T190000
DTSTAMP:20260424T035150
CREATED:20260327T183738Z
LAST-MODIFIED:20260327T183738Z
UID:10015499-1777309200-1777316400@stxcalendar.com
SUMMARY:Kim Wentzel
DESCRIPTION:
URL:https://stxcalendar.com/events-calendar/kim-wentzel/2026-04-27/
LOCATION:Brew STX\, 55 A&B Kings Alley\, Christiansted\, VI\, 00820\, Virgin Islands (U.S.)
CATEGORIES:Live Music
GEO:17.7468717;-64.703913
X-APPLE-STRUCTURED-LOCATION;VALUE=URI;X-ADDRESS=Brew STX 55 A&B Kings Alley Christiansted VI 00820 Virgin Islands (U.S.);X-APPLE-RADIUS=500;X-TITLE=55 A&B Kings Alley:geo:-64.703913,17.7468717
END:VEVENT
BEGIN:VEVENT
DTSTART;TZID=America/St_Thomas:20260428T190000
DTEND;TZID=America/St_Thomas:20260428T220000
DTSTAMP:20260424T035150
CREATED:20260216T173114Z
LAST-MODIFIED:20260216T173127Z
UID:10015260-1777402800-1777413600@stxcalendar.com
SUMMARY:The Schindigglers
DESCRIPTION:
URL:https://stxcalendar.com/events-calendar/the-schindigglers-3/2026-04-28/
LOCATION:Brew STX\, 55 A&B Kings Alley\, Christiansted\, VI\, 00820\, Virgin Islands (U.S.)
CATEGORIES:Live Music
GEO:17.7468717;-64.703913
X-APPLE-STRUCTURED-LOCATION;VALUE=URI;X-ADDRESS=Brew STX 55 A&B Kings Alley Christiansted VI 00820 Virgin Islands (U.S.);X-APPLE-RADIUS=500;X-TITLE=55 A&B Kings Alley:geo:-64.703913,17.7468717
END:VEVENT
BEGIN:VEVENT
DTSTART;TZID=America/St_Thomas:20260429T170000
DTEND;TZID=America/St_Thomas:20260429T190000
DTSTAMP:20260424T035150
CREATED:20260216T173650Z
LAST-MODIFIED:20260216T173652Z
UID:10015292-1777482000-1777489200@stxcalendar.com
SUMMARY:Crab Races with Tito & Sue
DESCRIPTION:Fun for the entire family! Race your hermit crab to win prizes.
URL:https://stxcalendar.com/events-calendar/crab-races-with-tito-sue-2/2026-04-29/
LOCATION:Brew STX\, 55 A&B Kings Alley\, Christiansted\, VI\, 00820\, Virgin Islands (U.S.)
CATEGORIES:Family Friendly Events on St Croix
ATTACH;FMTTYPE=image/jpeg:https://stxcalendar.com/wp-content/uploads/2026/01/brewstx-crab-races-e1769195632757.jpg
GEO:17.7468717;-64.703913
X-APPLE-STRUCTURED-LOCATION;VALUE=URI;X-ADDRESS=Brew STX 55 A&B Kings Alley Christiansted VI 00820 Virgin Islands (U.S.);X-APPLE-RADIUS=500;X-TITLE=55 A&B Kings Alley:geo:-64.703913,17.7468717
END:VEVENT
BEGIN:VEVENT
DTSTART;TZID=America/St_Thomas:20260430T190000
DTEND;TZID=America/St_Thomas:20260430T220000
DTSTAMP:20260424T035150
CREATED:20260327T192719Z
LAST-MODIFIED:20260327T192720Z
UID:10015631-1777575600-1777586400@stxcalendar.com
SUMMARY:No Problemo
DESCRIPTION:
URL:https://stxcalendar.com/events-calendar/no-problemo-2/2026-04-30/
LOCATION:Brew STX\, 55 A&B Kings Alley\, Christiansted\, VI\, 00820\, Virgin Islands (U.S.)
CATEGORIES:Live Music
ATTACH;FMTTYPE=image/jpeg:https://stxcalendar.com/wp-content/uploads/2026/02/no-problemo-at-brew-stx-e1774639533832.jpg
GEO:17.7468717;-64.703913
X-APPLE-STRUCTURED-LOCATION;VALUE=URI;X-ADDRESS=Brew STX 55 A&B Kings Alley Christiansted VI 00820 Virgin Islands (U.S.);X-APPLE-RADIUS=500;X-TITLE=55 A&B Kings Alley:geo:-64.703913,17.7468717
END:VEVENT
BEGIN:VEVENT
DTSTART;TZID=America/St_Thomas:20260501T200000
DTEND;TZID=America/St_Thomas:20260501T235900
DTSTAMP:20260424T035150
CREATED:20260327T183104Z
LAST-MODIFIED:20260327T183105Z
UID:10015476-1777665600-1777679940@stxcalendar.com
SUMMARY:Karaoke
DESCRIPTION:Upstairs on the Brew Deck!
URL:https://stxcalendar.com/events-calendar/karaoke-12/2026-05-01/
LOCATION:Brew STX\, 55 A&B Kings Alley\, Christiansted\, VI\, 00820\, Virgin Islands (U.S.)
CATEGORIES:Karaoke
ATTACH;FMTTYPE=image/jpeg:https://stxcalendar.com/wp-content/uploads/2026/03/karaoke-at-brew-stx-e1774636066686.jpg
GEO:17.7468717;-64.703913
X-APPLE-STRUCTURED-LOCATION;VALUE=URI;X-ADDRESS=Brew STX 55 A&B Kings Alley Christiansted VI 00820 Virgin Islands (U.S.);X-APPLE-RADIUS=500;X-TITLE=55 A&B Kings Alley:geo:-64.703913,17.7468717
END:VEVENT
BEGIN:VEVENT
DTSTART;TZID=America/St_Thomas:20260504T170000
DTEND;TZID=America/St_Thomas:20260504T190000
DTSTAMP:20260424T035150
CREATED:20260327T183738Z
LAST-MODIFIED:20260327T183738Z
UID:10015500-1777914000-1777921200@stxcalendar.com
SUMMARY:Kim Wentzel
DESCRIPTION:
URL:https://stxcalendar.com/events-calendar/kim-wentzel/2026-05-04/
LOCATION:Brew STX\, 55 A&B Kings Alley\, Christiansted\, VI\, 00820\, Virgin Islands (U.S.)
CATEGORIES:Live Music
GEO:17.7468717;-64.703913
X-APPLE-STRUCTURED-LOCATION;VALUE=URI;X-ADDRESS=Brew STX 55 A&B Kings Alley Christiansted VI 00820 Virgin Islands (U.S.);X-APPLE-RADIUS=500;X-TITLE=55 A&B Kings Alley:geo:-64.703913,17.7468717
END:VEVENT
BEGIN:VEVENT
DTSTART;TZID=America/St_Thomas:20260505T190000
DTEND;TZID=America/St_Thomas:20260505T220000
DTSTAMP:20260424T035150
CREATED:20260216T173114Z
LAST-MODIFIED:20260216T173127Z
UID:10015261-1778007600-1778018400@stxcalendar.com
SUMMARY:The Schindigglers
DESCRIPTION:
URL:https://stxcalendar.com/events-calendar/the-schindigglers-3/2026-05-05/
LOCATION:Brew STX\, 55 A&B Kings Alley\, Christiansted\, VI\, 00820\, Virgin Islands (U.S.)
CATEGORIES:Live Music
GEO:17.7468717;-64.703913
X-APPLE-STRUCTURED-LOCATION;VALUE=URI;X-ADDRESS=Brew STX 55 A&B Kings Alley Christiansted VI 00820 Virgin Islands (U.S.);X-APPLE-RADIUS=500;X-TITLE=55 A&B Kings Alley:geo:-64.703913,17.7468717
END:VEVENT
BEGIN:VEVENT
DTSTART;TZID=America/St_Thomas:20260506T170000
DTEND;TZID=America/St_Thomas:20260506T190000
DTSTAMP:20260424T035150
CREATED:20260216T173650Z
LAST-MODIFIED:20260216T173652Z
UID:10015293-1778086800-1778094000@stxcalendar.com
SUMMARY:Crab Races with Tito & Sue
DESCRIPTION:Fun for the entire family! Race your hermit crab to win prizes.
URL:https://stxcalendar.com/events-calendar/crab-races-with-tito-sue-2/2026-05-06/
LOCATION:Brew STX\, 55 A&B Kings Alley\, Christiansted\, VI\, 00820\, Virgin Islands (U.S.)
CATEGORIES:Family Friendly Events on St Croix
ATTACH;FMTTYPE=image/jpeg:https://stxcalendar.com/wp-content/uploads/2026/01/brewstx-crab-races-e1769195632757.jpg
GEO:17.7468717;-64.703913
X-APPLE-STRUCTURED-LOCATION;VALUE=URI;X-ADDRESS=Brew STX 55 A&B Kings Alley Christiansted VI 00820 Virgin Islands (U.S.);X-APPLE-RADIUS=500;X-TITLE=55 A&B Kings Alley:geo:-64.703913,17.7468717
END:VEVENT
BEGIN:VEVENT
DTSTART;TZID=America/St_Thomas:20260507T190000
DTEND;TZID=America/St_Thomas:20260507T220000
DTSTAMP:20260424T035150
CREATED:20260327T192719Z
LAST-MODIFIED:20260327T192720Z
UID:10015632-1778180400-1778191200@stxcalendar.com
SUMMARY:No Problemo
DESCRIPTION:
URL:https://stxcalendar.com/events-calendar/no-problemo-2/2026-05-07/
LOCATION:Brew STX\, 55 A&B Kings Alley\, Christiansted\, VI\, 00820\, Virgin Islands (U.S.)
CATEGORIES:Live Music
ATTACH;FMTTYPE=image/jpeg:https://stxcalendar.com/wp-content/uploads/2026/02/no-problemo-at-brew-stx-e1774639533832.jpg
GEO:17.7468717;-64.703913
X-APPLE-STRUCTURED-LOCATION;VALUE=URI;X-ADDRESS=Brew STX 55 A&B Kings Alley Christiansted VI 00820 Virgin Islands (U.S.);X-APPLE-RADIUS=500;X-TITLE=55 A&B Kings Alley:geo:-64.703913,17.7468717
END:VEVENT
BEGIN:VEVENT
DTSTART;TZID=America/St_Thomas:20260508T200000
DTEND;TZID=America/St_Thomas:20260508T235900
DTSTAMP:20260424T035150
CREATED:20260327T183104Z
LAST-MODIFIED:20260327T183105Z
UID:10015477-1778270400-1778284740@stxcalendar.com
SUMMARY:Karaoke
DESCRIPTION:Upstairs on the Brew Deck!
URL:https://stxcalendar.com/events-calendar/karaoke-12/2026-05-08/
LOCATION:Brew STX\, 55 A&B Kings Alley\, Christiansted\, VI\, 00820\, Virgin Islands (U.S.)
CATEGORIES:Karaoke
ATTACH;FMTTYPE=image/jpeg:https://stxcalendar.com/wp-content/uploads/2026/03/karaoke-at-brew-stx-e1774636066686.jpg
GEO:17.7468717;-64.703913
X-APPLE-STRUCTURED-LOCATION;VALUE=URI;X-ADDRESS=Brew STX 55 A&B Kings Alley Christiansted VI 00820 Virgin Islands (U.S.);X-APPLE-RADIUS=500;X-TITLE=55 A&B Kings Alley:geo:-64.703913,17.7468717
END:VEVENT
BEGIN:VEVENT
DTSTART;TZID=America/St_Thomas:20260512T190000
DTEND;TZID=America/St_Thomas:20260512T220000
DTSTAMP:20260424T035150
CREATED:20260216T173114Z
LAST-MODIFIED:20260216T173127Z
UID:10015262-1778612400-1778623200@stxcalendar.com
SUMMARY:The Schindigglers
DESCRIPTION:
URL:https://stxcalendar.com/events-calendar/the-schindigglers-3/2026-05-12/
LOCATION:Brew STX\, 55 A&B Kings Alley\, Christiansted\, VI\, 00820\, Virgin Islands (U.S.)
CATEGORIES:Live Music
GEO:17.7468717;-64.703913
X-APPLE-STRUCTURED-LOCATION;VALUE=URI;X-ADDRESS=Brew STX 55 A&B Kings Alley Christiansted VI 00820 Virgin Islands (U.S.);X-APPLE-RADIUS=500;X-TITLE=55 A&B Kings Alley:geo:-64.703913,17.7468717
END:VEVENT
BEGIN:VEVENT
DTSTART;TZID=America/St_Thomas:20260513T170000
DTEND;TZID=America/St_Thomas:20260513T190000
DTSTAMP:20260424T035150
CREATED:20260216T173650Z
LAST-MODIFIED:20260216T173652Z
UID:10015294-1778691600-1778698800@stxcalendar.com
SUMMARY:Crab Races with Tito & Sue
DESCRIPTION:Fun for the entire family! Race your hermit crab to win prizes.
URL:https://stxcalendar.com/events-calendar/crab-races-with-tito-sue-2/2026-05-13/
LOCATION:Brew STX\, 55 A&B Kings Alley\, Christiansted\, VI\, 00820\, Virgin Islands (U.S.)
CATEGORIES:Family Friendly Events on St Croix
ATTACH;FMTTYPE=image/jpeg:https://stxcalendar.com/wp-content/uploads/2026/01/brewstx-crab-races-e1769195632757.jpg
GEO:17.7468717;-64.703913
X-APPLE-STRUCTURED-LOCATION;VALUE=URI;X-ADDRESS=Brew STX 55 A&B Kings Alley Christiansted VI 00820 Virgin Islands (U.S.);X-APPLE-RADIUS=500;X-TITLE=55 A&B Kings Alley:geo:-64.703913,17.7468717
END:VEVENT
BEGIN:VEVENT
DTSTART;TZID=America/St_Thomas:20260514T190000
DTEND;TZID=America/St_Thomas:20260514T220000
DTSTAMP:20260424T035150
CREATED:20260327T192719Z
LAST-MODIFIED:20260327T192720Z
UID:10015633-1778785200-1778796000@stxcalendar.com
SUMMARY:No Problemo
DESCRIPTION:
URL:https://stxcalendar.com/events-calendar/no-problemo-2/2026-05-14/
LOCATION:Brew STX\, 55 A&B Kings Alley\, Christiansted\, VI\, 00820\, Virgin Islands (U.S.)
CATEGORIES:Live Music
ATTACH;FMTTYPE=image/jpeg:https://stxcalendar.com/wp-content/uploads/2026/02/no-problemo-at-brew-stx-e1774639533832.jpg
GEO:17.7468717;-64.703913
X-APPLE-STRUCTURED-LOCATION;VALUE=URI;X-ADDRESS=Brew STX 55 A&B Kings Alley Christiansted VI 00820 Virgin Islands (U.S.);X-APPLE-RADIUS=500;X-TITLE=55 A&B Kings Alley:geo:-64.703913,17.7468717
END:VEVENT
BEGIN:VEVENT
DTSTART;TZID=America/St_Thomas:20260515T200000
DTEND;TZID=America/St_Thomas:20260515T235900
DTSTAMP:20260424T035150
CREATED:20260327T183104Z
LAST-MODIFIED:20260327T183105Z
UID:10015478-1778875200-1778889540@stxcalendar.com
SUMMARY:Karaoke
DESCRIPTION:Upstairs on the Brew Deck!
URL:https://stxcalendar.com/events-calendar/karaoke-12/2026-05-15/
LOCATION:Brew STX\, 55 A&B Kings Alley\, Christiansted\, VI\, 00820\, Virgin Islands (U.S.)
CATEGORIES:Karaoke
ATTACH;FMTTYPE=image/jpeg:https://stxcalendar.com/wp-content/uploads/2026/03/karaoke-at-brew-stx-e1774636066686.jpg
GEO:17.7468717;-64.703913
X-APPLE-STRUCTURED-LOCATION;VALUE=URI;X-ADDRESS=Brew STX 55 A&B Kings Alley Christiansted VI 00820 Virgin Islands (U.S.);X-APPLE-RADIUS=500;X-TITLE=55 A&B Kings Alley:geo:-64.703913,17.7468717
END:VEVENT
BEGIN:VEVENT
DTSTART;TZID=America/St_Thomas:20260519T190000
DTEND;TZID=America/St_Thomas:20260519T220000
DTSTAMP:20260424T035150
CREATED:20260216T173114Z
LAST-MODIFIED:20260216T173127Z
UID:10015263-1779217200-1779228000@stxcalendar.com
SUMMARY:The Schindigglers
DESCRIPTION:
URL:https://stxcalendar.com/events-calendar/the-schindigglers-3/2026-05-19/
LOCATION:Brew STX\, 55 A&B Kings Alley\, Christiansted\, VI\, 00820\, Virgin Islands (U.S.)
CATEGORIES:Live Music
GEO:17.7468717;-64.703913
X-APPLE-STRUCTURED-LOCATION;VALUE=URI;X-ADDRESS=Brew STX 55 A&B Kings Alley Christiansted VI 00820 Virgin Islands (U.S.);X-APPLE-RADIUS=500;X-TITLE=55 A&B Kings Alley:geo:-64.703913,17.7468717
END:VEVENT
BEGIN:VEVENT
DTSTART;TZID=America/St_Thomas:20260520T170000
DTEND;TZID=America/St_Thomas:20260520T190000
DTSTAMP:20260424T035150
CREATED:20260216T173650Z
LAST-MODIFIED:20260216T173652Z
UID:10015295-1779296400-1779303600@stxcalendar.com
SUMMARY:Crab Races with Tito & Sue
DESCRIPTION:Fun for the entire family! Race your hermit crab to win prizes.
URL:https://stxcalendar.com/events-calendar/crab-races-with-tito-sue-2/2026-05-20/
LOCATION:Brew STX\, 55 A&B Kings Alley\, Christiansted\, VI\, 00820\, Virgin Islands (U.S.)
CATEGORIES:Family Friendly Events on St Croix
ATTACH;FMTTYPE=image/jpeg:https://stxcalendar.com/wp-content/uploads/2026/01/brewstx-crab-races-e1769195632757.jpg
GEO:17.7468717;-64.703913
X-APPLE-STRUCTURED-LOCATION;VALUE=URI;X-ADDRESS=Brew STX 55 A&B Kings Alley Christiansted VI 00820 Virgin Islands (U.S.);X-APPLE-RADIUS=500;X-TITLE=55 A&B Kings Alley:geo:-64.703913,17.7468717
END:VEVENT
BEGIN:VEVENT
DTSTART;TZID=America/St_Thomas:20260521T190000
DTEND;TZID=America/St_Thomas:20260521T220000
DTSTAMP:20260424T035150
CREATED:20260327T192719Z
LAST-MODIFIED:20260327T192720Z
UID:10015634-1779390000-1779400800@stxcalendar.com
SUMMARY:No Problemo
DESCRIPTION:
URL:https://stxcalendar.com/events-calendar/no-problemo-2/2026-05-21/
LOCATION:Brew STX\, 55 A&B Kings Alley\, Christiansted\, VI\, 00820\, Virgin Islands (U.S.)
CATEGORIES:Live Music
ATTACH;FMTTYPE=image/jpeg:https://stxcalendar.com/wp-content/uploads/2026/02/no-problemo-at-brew-stx-e1774639533832.jpg
GEO:17.7468717;-64.703913
X-APPLE-STRUCTURED-LOCATION;VALUE=URI;X-ADDRESS=Brew STX 55 A&B Kings Alley Christiansted VI 00820 Virgin Islands (U.S.);X-APPLE-RADIUS=500;X-TITLE=55 A&B Kings Alley:geo:-64.703913,17.7468717
END:VEVENT
BEGIN:VEVENT
DTSTART;TZID=America/St_Thomas:20260526T190000
DTEND;TZID=America/St_Thomas:20260526T220000
DTSTAMP:20260424T035150
CREATED:20260216T173114Z
LAST-MODIFIED:20260216T173127Z
UID:10015264-1779822000-1779832800@stxcalendar.com
SUMMARY:The Schindigglers
DESCRIPTION:
URL:https://stxcalendar.com/events-calendar/the-schindigglers-3/2026-05-26/
LOCATION:Brew STX\, 55 A&B Kings Alley\, Christiansted\, VI\, 00820\, Virgin Islands (U.S.)
CATEGORIES:Live Music
GEO:17.7468717;-64.703913
X-APPLE-STRUCTURED-LOCATION;VALUE=URI;X-ADDRESS=Brew STX 55 A&B Kings Alley Christiansted VI 00820 Virgin Islands (U.S.);X-APPLE-RADIUS=500;X-TITLE=55 A&B Kings Alley:geo:-64.703913,17.7468717
END:VEVENT
BEGIN:VEVENT
DTSTART;TZID=America/St_Thomas:20260527T170000
DTEND;TZID=America/St_Thomas:20260527T190000
DTSTAMP:20260424T035150
CREATED:20260216T173650Z
LAST-MODIFIED:20260216T173652Z
UID:10015296-1779901200-1779908400@stxcalendar.com
SUMMARY:Crab Races with Tito & Sue
DESCRIPTION:Fun for the entire family! Race your hermit crab to win prizes.
URL:https://stxcalendar.com/events-calendar/crab-races-with-tito-sue-2/2026-05-27/
LOCATION:Brew STX\, 55 A&B Kings Alley\, Christiansted\, VI\, 00820\, Virgin Islands (U.S.)
CATEGORIES:Family Friendly Events on St Croix
ATTACH;FMTTYPE=image/jpeg:https://stxcalendar.com/wp-content/uploads/2026/01/brewstx-crab-races-e1769195632757.jpg
GEO:17.7468717;-64.703913
X-APPLE-STRUCTURED-LOCATION;VALUE=URI;X-ADDRESS=Brew STX 55 A&B Kings Alley Christiansted VI 00820 Virgin Islands (U.S.);X-APPLE-RADIUS=500;X-TITLE=55 A&B Kings Alley:geo:-64.703913,17.7468717
END:VEVENT
BEGIN:VEVENT
DTSTART;TZID=America/St_Thomas:20260603T170000
DTEND;TZID=America/St_Thomas:20260603T190000
DTSTAMP:20260424T035150
CREATED:20260216T173650Z
LAST-MODIFIED:20260216T173652Z
UID:10015297-1780506000-1780513200@stxcalendar.com
SUMMARY:Crab Races with Tito & Sue
DESCRIPTION:Fun for the entire family! Race your hermit crab to win prizes.
URL:https://stxcalendar.com/events-calendar/crab-races-with-tito-sue-2/2026-06-03/
LOCATION:Brew STX\, 55 A&B Kings Alley\, Christiansted\, VI\, 00820\, Virgin Islands (U.S.)
CATEGORIES:Family Friendly Events on St Croix
ATTACH;FMTTYPE=image/jpeg:https://stxcalendar.com/wp-content/uploads/2026/01/brewstx-crab-races-e1769195632757.jpg
GEO:17.7468717;-64.703913
X-APPLE-STRUCTURED-LOCATION;VALUE=URI;X-ADDRESS=Brew STX 55 A&B Kings Alley Christiansted VI 00820 Virgin Islands (U.S.);X-APPLE-RADIUS=500;X-TITLE=55 A&B Kings Alley:geo:-64.703913,17.7468717
END:VEVENT
END:VCALENDAR