BEGIN:VCALENDAR
VERSION:2.0
PRODID:-//St Croix Calendar Weekly Events Music US Virgin Islands - ECPv6.15.20//NONSGML v1.0//EN
CALSCALE:GREGORIAN
METHOD:PUBLISH
X-WR-CALNAME:St Croix Calendar Weekly Events Music US Virgin Islands
X-ORIGINAL-URL:https://stxcalendar.com
X-WR-CALDESC:Events for St Croix Calendar Weekly Events Music US Virgin Islands
REFRESH-INTERVAL;VALUE=DURATION:PT1H
X-Robots-Tag:noindex
X-PUBLISHED-TTL:PT1H
BEGIN:VTIMEZONE
TZID:America/St_Thomas
BEGIN:STANDARD
TZOFFSETFROM:-0400
TZOFFSETTO:-0400
TZNAME:AST
DTSTART:20250101T000000
END:STANDARD
END:VTIMEZONE
BEGIN:VEVENT
DTSTART;TZID=America/St_Thomas:20260506T200000
DTEND;TZID=America/St_Thomas:20260506T235900
DTSTAMP:20260425T194449
CREATED:20260327T173524Z
LAST-MODIFIED:20260327T173525Z
UID:10015442-1778097600-1778111940@stxcalendar.com
SUMMARY:Karaoke
DESCRIPTION:
URL:https://stxcalendar.com/events-calendar/karaoke-7/2026-05-06/
LOCATION:Cheeseburger in Paradise\, 67 Southgate\, Christiansted\, VI\, 00820\, Virgin Islands (U.S.)
CATEGORIES:Karaoke
GEO:17.7445481;-64.7059208
X-APPLE-STRUCTURED-LOCATION;VALUE=URI;X-ADDRESS=Cheeseburger in Paradise 67 Southgate Christiansted VI 00820 Virgin Islands (U.S.);X-APPLE-RADIUS=500;X-TITLE=67 Southgate:geo:-64.7059208,17.7445481
END:VEVENT
BEGIN:VEVENT
DTSTART;TZID=America/St_Thomas:20260506T183000
DTEND;TZID=America/St_Thomas:20260506T200000
DTSTAMP:20260425T194449
CREATED:20260424T211522Z
LAST-MODIFIED:20260424T211523Z
UID:10015889-1778092200-1778097600@stxcalendar.com
SUMMARY:Bingo
DESCRIPTION:
URL:https://stxcalendar.com/events-calendar/bingo-2/2026-05-06/
LOCATION:Castaways\, Q949+J3 Solitude\, Christiansted\, VI\, 00820\, Virgin Islands (U.S.)
CATEGORIES:Bingo
GEO:17.7445481;-64.7059208
X-APPLE-STRUCTURED-LOCATION;VALUE=URI;X-ADDRESS=Castaways Q949+J3 Solitude Christiansted VI 00820 Virgin Islands (U.S.);X-APPLE-RADIUS=500;X-TITLE=Q949+J3 Solitude:geo:-64.7059208,17.7445481
END:VEVENT
BEGIN:VEVENT
DTSTART;TZID=America/St_Thomas:20260506T173000
DTEND;TZID=America/St_Thomas:20260506T203000
DTSTAMP:20260425T194449
CREATED:20260403T175106Z
LAST-MODIFIED:20260403T175108Z
UID:10015664-1778088600-1778099400@stxcalendar.com
SUMMARY:Gyasi Clarke
DESCRIPTION:Enjoy the smooth sounds of singer/songwriter and guitarist\, Gyasi Clarke. Reservations encouraged.
URL:https://stxcalendar.com/events-calendar/gyasi-clarke/2026-05-06/
LOCATION:Landing Beach Bar\, 110C Cane Bay\, Christiansted\, VI\, 00850\, Virgin Islands (U.S.)
CATEGORIES:Live Music
GEO:17.7724467;-64.8106096
X-APPLE-STRUCTURED-LOCATION;VALUE=URI;X-ADDRESS=Landing Beach Bar 110C Cane Bay Christiansted VI 00850 Virgin Islands (U.S.);X-APPLE-RADIUS=500;X-TITLE=110C Cane Bay:geo:-64.8106096,17.7724467
END:VEVENT
BEGIN:VEVENT
DTSTART;TZID=America/St_Thomas:20260506T170000
DTEND;TZID=America/St_Thomas:20260506T193000
DTSTAMP:20260425T194449
CREATED:20260424T202553Z
LAST-MODIFIED:20260424T202553Z
UID:10015811-1778086800-1778095800@stxcalendar.com
SUMMARY:Live Music Sunset Sail w/ Kim Wentzel
DESCRIPTION:Enjoy a sunset sail with live music aboard Lyric Sails. Enjoy complimentary rum punch and a cash bar.Book your sail at LyricSails.com
URL:https://stxcalendar.com/events-calendar/live-music-sunset-sail-w-kim-wentzel-4/2026-05-06/
LOCATION:Lyric Sails\, 1D Strand Street\, Frederiksted\, VA\, 00840
CATEGORIES:Live Music
ATTACH;FMTTYPE=image/png:https://stxcalendar.com/wp-content/uploads/2026/03/kim-wentzel-aboard-lyric-sails.png
GEO:17.7140868;-64.883613
X-APPLE-STRUCTURED-LOCATION;VALUE=URI;X-ADDRESS=Lyric Sails 1D Strand Street Frederiksted VA 00840;X-APPLE-RADIUS=500;X-TITLE=1D Strand Street:geo:-64.883613,17.7140868
END:VEVENT
BEGIN:VEVENT
DTSTART;TZID=America/St_Thomas:20260506T170000
DTEND;TZID=America/St_Thomas:20260506T190000
DTSTAMP:20260425T194449
CREATED:20260216T173650Z
LAST-MODIFIED:20260216T173652Z
UID:10015293-1778086800-1778094000@stxcalendar.com
SUMMARY:Crab Races with Tito & Sue
DESCRIPTION:Fun for the entire family! Race your hermit crab to win prizes.
URL:https://stxcalendar.com/events-calendar/crab-races-with-tito-sue-2/2026-05-06/
LOCATION:Brew STX\, 55 A&B Kings Alley\, Christiansted\, VI\, 00820\, Virgin Islands (U.S.)
CATEGORIES:Family Friendly Events on St Croix
ATTACH;FMTTYPE=image/jpeg:https://stxcalendar.com/wp-content/uploads/2026/01/brewstx-crab-races-e1769195632757.jpg
GEO:17.7468717;-64.703913
X-APPLE-STRUCTURED-LOCATION;VALUE=URI;X-ADDRESS=Brew STX 55 A&B Kings Alley Christiansted VI 00820 Virgin Islands (U.S.);X-APPLE-RADIUS=500;X-TITLE=55 A&B Kings Alley:geo:-64.703913,17.7468717
END:VEVENT
BEGIN:VEVENT
DTSTART;TZID=America/St_Thomas:20260505T180000
DTEND;TZID=America/St_Thomas:20260505T200000
DTSTAMP:20260425T194449
CREATED:20260417T163444Z
LAST-MODIFIED:20260417T163445Z
UID:10015748-1778004000-1778011200@stxcalendar.com
SUMMARY:Tuesday Night Trivia
DESCRIPTION:Think you’ve got what it takes to be trivia champs? Grab your team and get ready to compete! \n\n\n\n\nTeams can have up to 6 players\n\n\n\nPrizes are awarded after every round\n\n\n\nTeams face off for 1st and 2nd place glory\n\n\n\n\nBring your A-game\, some good vibes\, and a whole lot of brainpower. \n\n\n\nCall 340-772-2337 to reserve a table for your team of 6 people or less or come early and find a spot and enjoy Happy Hour (starting at 4:00 pm)
URL:https://stxcalendar.com/events-calendar/tuesday-night-trivia/2026-05-05/
LOCATION:Leatherback Brewing Company\, William Roebuck Industrial Park\, #4 Negro Bay\, Frederiksted\, VI\, 00840\, Virgin Islands (U.S.)
CATEGORIES:Trivia
ATTACH;FMTTYPE=image/jpeg:https://stxcalendar.com/wp-content/uploads/2026/04/Trivia-Night-Leatherback-Brewing.jpg
GEO:17.7062406;-64.7999261
X-APPLE-STRUCTURED-LOCATION;VALUE=URI;X-ADDRESS=Leatherback Brewing Company William Roebuck Industrial Park #4 Negro Bay Frederiksted VI 00840 Virgin Islands (U.S.);X-APPLE-RADIUS=500;X-TITLE=William Roebuck Industrial Park\, #4 Negro Bay:geo:-64.7999261,17.7062406
END:VEVENT
BEGIN:VEVENT
DTSTART;TZID=America/St_Thomas:20260505T170000
DTEND;TZID=America/St_Thomas:20260505T193000
DTSTAMP:20260425T194449
CREATED:20260424T202411Z
LAST-MODIFIED:20260424T202412Z
UID:10015788-1778000400-1778009400@stxcalendar.com
SUMMARY:Live Music Sunset Sail w/ Mercy Child
DESCRIPTION:Enjoy a sunset sail with live music aboard Lyric Sails. Enjoy complimentary rum punch and a cash bar.Book your sail at LyricSails.com
URL:https://stxcalendar.com/events-calendar/live-music-sunset-sail-w-mercy-child-8/2026-05-05/
LOCATION:Lyric Sails\, 1D Strand Street\, Frederiksted\, VA\, 00840
CATEGORIES:Live Music
ATTACH;FMTTYPE=image/png:https://stxcalendar.com/wp-content/uploads/2026/03/mercy-child-aboard-lyric-sails.png
GEO:17.7140868;-64.883613
X-APPLE-STRUCTURED-LOCATION;VALUE=URI;X-ADDRESS=Lyric Sails 1D Strand Street Frederiksted VA 00840;X-APPLE-RADIUS=500;X-TITLE=1D Strand Street:geo:-64.883613,17.7140868
END:VEVENT
BEGIN:VEVENT
DTSTART;TZID=America/St_Thomas:20260504T180000
DTEND;TZID=America/St_Thomas:20260504T210000
DTSTAMP:20260425T194449
CREATED:20260424T201047Z
LAST-MODIFIED:20260424T201048Z
UID:10015763-1777917600-1777928400@stxcalendar.com
SUMMARY:Chris Laggini
DESCRIPTION:
URL:https://stxcalendar.com/events-calendar/chris-laggini/2026-05-04/
LOCATION:Castaways\, Q949+J3 Solitude\, Christiansted\, VI\, 00820\, Virgin Islands (U.S.)
CATEGORIES:Live Music
GEO:17.7445481;-64.7059208
X-APPLE-STRUCTURED-LOCATION;VALUE=URI;X-ADDRESS=Castaways Q949+J3 Solitude Christiansted VI 00820 Virgin Islands (U.S.);X-APPLE-RADIUS=500;X-TITLE=Q949+J3 Solitude:geo:-64.7059208,17.7445481
END:VEVENT
BEGIN:VEVENT
DTSTART;TZID=America/St_Thomas:20260504T180000
DTEND;TZID=America/St_Thomas:20260504T203000
DTSTAMP:20260425T194449
CREATED:20260424T210712Z
LAST-MODIFIED:20260424T210713Z
UID:10015877-1777917600-1777926600@stxcalendar.com
SUMMARY:Bingo
DESCRIPTION:
URL:https://stxcalendar.com/events-calendar/bingo/2026-05-04/
LOCATION:Off The Wall\, Q5FR+R4\, Cane Bay\, VI\, 00851\, Virgin Islands (U.S.)
CATEGORIES:Bingo
GEO:17.7745625;-64.8096875
X-APPLE-STRUCTURED-LOCATION;VALUE=URI;X-ADDRESS=Off The Wall Q5FR+R4 Cane Bay VI 00851 Virgin Islands (U.S.);X-APPLE-RADIUS=500;X-TITLE=Q5FR+R4:geo:-64.8096875,17.7745625
END:VEVENT
BEGIN:VEVENT
DTSTART;TZID=America/St_Thomas:20260504T170000
DTEND;TZID=America/St_Thomas:20260504T190000
DTSTAMP:20260425T194449
CREATED:20260327T183738Z
LAST-MODIFIED:20260327T183738Z
UID:10015500-1777914000-1777921200@stxcalendar.com
SUMMARY:Kim Wentzel
DESCRIPTION:
URL:https://stxcalendar.com/events-calendar/kim-wentzel/2026-05-04/
LOCATION:Brew STX\, 55 A&B Kings Alley\, Christiansted\, VI\, 00820\, Virgin Islands (U.S.)
CATEGORIES:Live Music
GEO:17.7468717;-64.703913
X-APPLE-STRUCTURED-LOCATION;VALUE=URI;X-ADDRESS=Brew STX 55 A&B Kings Alley Christiansted VI 00820 Virgin Islands (U.S.);X-APPLE-RADIUS=500;X-TITLE=55 A&B Kings Alley:geo:-64.703913,17.7468717
END:VEVENT
BEGIN:VEVENT
DTSTART;TZID=America/St_Thomas:20260504T080000
DTEND;TZID=America/St_Thomas:20260504T180000
DTSTAMP:20260425T194449
CREATED:20250905T165438Z
LAST-MODIFIED:20250905T165440Z
UID:10013633-1777881600-1777917600@stxcalendar.com
SUMMARY:RCL Adventure of the Seas
DESCRIPTION:Cruise ship in port
URL:https://stxcalendar.com/events-calendar/rcl-adventure-of-the-seas-5/2026-05-04/
LOCATION:Frederiksted Pier (Ann E. Abramson Pier)\, P478+J7\, Frederiksted\, VI\, 00840\, Virgin Islands (U.S.)
CATEGORIES:Cruise Ship Schedule St Croix
GEO:17.7140625;-64.8843125
X-APPLE-STRUCTURED-LOCATION;VALUE=URI;X-ADDRESS=Frederiksted Pier (Ann E. Abramson Pier) P478+J7 Frederiksted VI 00840 Virgin Islands (U.S.);X-APPLE-RADIUS=500;X-TITLE=P478+J7:geo:-64.8843125,17.7140625
END:VEVENT
BEGIN:VEVENT
DTSTART;TZID=America/St_Thomas:20260503T170000
DTEND;TZID=America/St_Thomas:20260503T193000
DTSTAMP:20260425T194449
CREATED:20260424T204135Z
LAST-MODIFIED:20260424T204143Z
UID:10015538-1777827600-1777836600@stxcalendar.com
SUMMARY:Live Music Sunset Sail w/ Adrian Rogers
DESCRIPTION:Enjoy a sunset sail with live music aboard Lyric Sails. Enjoy complimentary rum punch and a cash bar.Book your sail at LyricSails.com
URL:https://stxcalendar.com/events-calendar/live-music-sunset-sail-w-adrian-rogers-2/
LOCATION:Lyric Sails\, 1D Strand Street\, Frederiksted\, VA\, 00840
CATEGORIES:Live Music
ATTACH;FMTTYPE=image/png:https://stxcalendar.com/wp-content/uploads/2026/03/adrian-rogers-aboard-lyric-sails.png
GEO:17.7140868;-64.883613
X-APPLE-STRUCTURED-LOCATION;VALUE=URI;X-ADDRESS=Lyric Sails 1D Strand Street Frederiksted VA 00840;X-APPLE-RADIUS=500;X-TITLE=1D Strand Street:geo:-64.883613,17.7140868
END:VEVENT
BEGIN:VEVENT
DTSTART;TZID=America/St_Thomas:20260502T200000
DTEND;TZID=America/St_Thomas:20260502T235900
DTSTAMP:20260425T194449
CREATED:20260327T183419Z
LAST-MODIFIED:20260327T183420Z
UID:10015489-1777752000-1777766340@stxcalendar.com
SUMMARY:Karaoke
DESCRIPTION:
URL:https://stxcalendar.com/events-calendar/karaoke-13/2026-05-02/
LOCATION:Common Cents Pub\, 2110 Company Street\, Christiansted\, VI\, 00820\, Virgin Islands (U.S.)
CATEGORIES:Karaoke
GEO:17.7455726;-64.7035386
X-APPLE-STRUCTURED-LOCATION;VALUE=URI;X-ADDRESS=Common Cents Pub 2110 Company Street Christiansted VI 00820 Virgin Islands (U.S.);X-APPLE-RADIUS=500;X-TITLE=2110 Company Street:geo:-64.7035386,17.7455726
END:VEVENT
BEGIN:VEVENT
DTSTART;TZID=America/St_Thomas:20260502T173000
DTEND;TZID=America/St_Thomas:20260502T203000
DTSTAMP:20260425T194449
CREATED:20260403T175512Z
LAST-MODIFIED:20260403T175513Z
UID:10015683-1777743000-1777753800@stxcalendar.com
SUMMARY:Abbie
DESCRIPTION:There’s nothing better than the sounds of steelpan with Abbie\, good food\, and a tropical drink\, while enjoying the view. Reservations encouraged.
URL:https://stxcalendar.com/events-calendar/abbie/2026-05-02/
LOCATION:Landing Beach Bar\, 110C Cane Bay\, Christiansted\, VI\, 00850\, Virgin Islands (U.S.)
CATEGORIES:Live Music
GEO:17.7724467;-64.8106096
X-APPLE-STRUCTURED-LOCATION;VALUE=URI;X-ADDRESS=Landing Beach Bar 110C Cane Bay Christiansted VI 00850 Virgin Islands (U.S.);X-APPLE-RADIUS=500;X-TITLE=110C Cane Bay:geo:-64.8106096,17.7724467
END:VEVENT
BEGIN:VEVENT
DTSTART;TZID=America/St_Thomas:20260502T170000
DTEND;TZID=America/St_Thomas:20260502T193000
DTSTAMP:20260425T194449
CREATED:20260424T202136Z
LAST-MODIFIED:20260424T202137Z
UID:10015770-1777741200-1777750200@stxcalendar.com
SUMMARY:Live Music Sunset Sail w/ Mercy Child
DESCRIPTION:Enjoy a sunset sail with live music aboard Lyric Sails. Enjoy complimentary rum punch and a cash bar.Book your sail at LyricSails.com
URL:https://stxcalendar.com/events-calendar/live-music-sunset-sail-w-mercy-child-4/2026-05-02/
LOCATION:Lyric Sails\, 1D Strand Street\, Frederiksted\, VA\, 00840
CATEGORIES:Live Music
ATTACH;FMTTYPE=image/png:https://stxcalendar.com/wp-content/uploads/2026/03/mercy-child-aboard-lyric-sails.png
GEO:17.7140868;-64.883613
X-APPLE-STRUCTURED-LOCATION;VALUE=URI;X-ADDRESS=Lyric Sails 1D Strand Street Frederiksted VA 00840;X-APPLE-RADIUS=500;X-TITLE=1D Strand Street:geo:-64.883613,17.7140868
END:VEVENT
BEGIN:VEVENT
DTSTART;TZID=America/St_Thomas:20260502T113000
DTEND;TZID=America/St_Thomas:20260502T200000
DTSTAMP:20260425T194449
CREATED:20260417T163025Z
LAST-MODIFIED:20260424T205246Z
UID:10015745-1777721400-1777752000@stxcalendar.com
SUMMARY:Leatherback Brewing Co 8th Anniversary Party
DESCRIPTION:Leatherback Brewing Company is celebrating their 8th anniversary and The Kentucky Derby with a day full of events! \n\n\n\nThey’re rolling out the good times  with: \n\n\n\n\n Their  El Ocho Anniversary Beer Release\n\n\n\n Puppy Derby\n\n\n\n Kentucky Derby Style Big Hat Contest\n\n\n\n Best Dressed Contest (Kentucky Derby dress)\n\n\n\n DJ Pablo & Karaoke to close out the night\n\n\n\n\nCome for the beer\, stay for the fun\, and celebrate 8 amazing years with Leatherback Brewing Company! \n\n\n\n… Stay tuned as they roll out all 8 special events this May
URL:https://stxcalendar.com/events-calendar/leatherback-brewing-co-8th-anniversary-party/
LOCATION:Leatherback Brewing Company\, William Roebuck Industrial Park\, #4 Negro Bay\, Frederiksted\, VI\, 00840\, Virgin Islands (U.S.)
CATEGORIES:Community Event,Entertainment,Family Friendly Events on St Croix,Live Music
ATTACH;FMTTYPE=image/jpeg:https://stxcalendar.com/wp-content/uploads/2026/04/IMG_7592-e1777064049952.jpeg
GEO:17.7062406;-64.7999261
X-APPLE-STRUCTURED-LOCATION;VALUE=URI;X-ADDRESS=Leatherback Brewing Company William Roebuck Industrial Park #4 Negro Bay Frederiksted VI 00840 Virgin Islands (U.S.);X-APPLE-RADIUS=500;X-TITLE=William Roebuck Industrial Park\, #4 Negro Bay:geo:-64.7999261,17.7062406
END:VEVENT
BEGIN:VEVENT
DTSTART;TZID=America/St_Thomas:20260501T210000
DTEND;TZID=America/St_Thomas:20260502T020000
DTSTAMP:20260425T194449
CREATED:20260424T232738Z
LAST-MODIFIED:20260424T232738Z
UID:10015917-1777669200-1777687200@stxcalendar.com
SUMMARY:Jump Up Party with DJ Pouria
DESCRIPTION:Jump Up vibes + DJ Pouria = A fantastic night at Shupe’s.
URL:https://stxcalendar.com/events-calendar/jump-up-party-with-dj-pouria/
LOCATION:Shupe’s On The Boardwalk\, 39 Strand Street\, Christiansted\, VI\, Virgin Islands (U.S.)
CATEGORIES:Dancing,DJ
GEO:17.7467595;-64.7042228
X-APPLE-STRUCTURED-LOCATION;VALUE=URI;X-ADDRESS=Shupe’s On The Boardwalk 39 Strand Street Christiansted VI Virgin Islands (U.S.);X-APPLE-RADIUS=500;X-TITLE=39 Strand Street:geo:-64.7042228,17.7467595
END:VEVENT
BEGIN:VEVENT
DTSTART;TZID=America/St_Thomas:20260501T200000
DTEND;TZID=America/St_Thomas:20260501T235900
DTSTAMP:20260425T194449
CREATED:20260327T183104Z
LAST-MODIFIED:20260327T183105Z
UID:10015476-1777665600-1777679940@stxcalendar.com
SUMMARY:Karaoke
DESCRIPTION:Upstairs on the Brew Deck!
URL:https://stxcalendar.com/events-calendar/karaoke-12/2026-05-01/
LOCATION:Brew STX\, 55 A&B Kings Alley\, Christiansted\, VI\, 00820\, Virgin Islands (U.S.)
CATEGORIES:Karaoke
ATTACH;FMTTYPE=image/jpeg:https://stxcalendar.com/wp-content/uploads/2026/03/karaoke-at-brew-stx-e1774636066686.jpg
GEO:17.7468717;-64.703913
X-APPLE-STRUCTURED-LOCATION;VALUE=URI;X-ADDRESS=Brew STX 55 A&B Kings Alley Christiansted VI 00820 Virgin Islands (U.S.);X-APPLE-RADIUS=500;X-TITLE=55 A&B Kings Alley:geo:-64.703913,17.7468717
END:VEVENT
BEGIN:VEVENT
DTSTART;TZID=America/St_Thomas:20260501T180000
DTEND;TZID=America/St_Thomas:20260501T210000
DTSTAMP:20260425T194449
CREATED:20260424T211819Z
LAST-MODIFIED:20260424T211819Z
UID:10015908-1777658400-1777669200@stxcalendar.com
SUMMARY:Gerry Lakas 
DESCRIPTION:
URL:https://stxcalendar.com/events-calendar/gerry-lakas-2/2026-05-01/
LOCATION:Castaways\, Q949+J3 Solitude\, Christiansted\, VI\, 00820\, Virgin Islands (U.S.)
CATEGORIES:Live Music
GEO:17.7445481;-64.7059208
X-APPLE-STRUCTURED-LOCATION;VALUE=URI;X-ADDRESS=Castaways Q949+J3 Solitude Christiansted VI 00820 Virgin Islands (U.S.);X-APPLE-RADIUS=500;X-TITLE=Q949+J3 Solitude:geo:-64.7059208,17.7445481
END:VEVENT
BEGIN:VEVENT
DTSTART;TZID=America/St_Thomas:20260501T173000
DTEND;TZID=America/St_Thomas:20260501T193000
DTSTAMP:20260425T194449
CREATED:20260417T164314Z
LAST-MODIFIED:20260417T164319Z
UID:10015754-1777656600-1777663800@stxcalendar.com
SUMMARY:Crab Races with Tito & Sue
DESCRIPTION:Cheer on your crab while enjoying your favorite Leatherback brew or a cocktail! Bring the whole family for some pizza and loads of fun! Crabs available starting at 5:30. Arrive early to get a good seat!
URL:https://stxcalendar.com/events-calendar/crab-races-with-tito-sue-3/2026-05-01/
LOCATION:Leatherback Brewing Company\, William Roebuck Industrial Park\, #4 Negro Bay\, Frederiksted\, VI\, 00840\, Virgin Islands (U.S.)
CATEGORIES:Family Friendly Events on St Croix
ATTACH;FMTTYPE=image/png:https://stxcalendar.com/wp-content/uploads/2026/04/Carb-Races-at-leatherback-brewing-company.png
GEO:17.7062406;-64.7999261
X-APPLE-STRUCTURED-LOCATION;VALUE=URI;X-ADDRESS=Leatherback Brewing Company William Roebuck Industrial Park #4 Negro Bay Frederiksted VI 00840 Virgin Islands (U.S.);X-APPLE-RADIUS=500;X-TITLE=William Roebuck Industrial Park\, #4 Negro Bay:geo:-64.7999261,17.7062406
END:VEVENT
BEGIN:VEVENT
DTSTART;TZID=America/St_Thomas:20260501T170000
DTEND;TZID=America/St_Thomas:20260501T193000
DTSTAMP:20260425T194449
CREATED:20260424T202800Z
LAST-MODIFIED:20260424T203013Z
UID:10015829-1777654800-1777663800@stxcalendar.com
SUMMARY:Live Music Sunset Sail w/ Gyasi Clarke
DESCRIPTION:Enjoy a sunset sail with live music aboard Lyric Sails. Enjoy complimentary rum punch and a cash bar.Book your sail at LyricSails.com
URL:https://stxcalendar.com/events-calendar/live-music-sunset-sail-w-gyasi-clarke-4/2026-05-01/
LOCATION:Lyric Sails\, 1D Strand Street\, Frederiksted\, VA\, 00840
CATEGORIES:Live Music
ATTACH;FMTTYPE=image/png:https://stxcalendar.com/wp-content/uploads/2025/12/gyasi-clarke-aboard-lyric-sails.png
GEO:17.7140868;-64.883613
X-APPLE-STRUCTURED-LOCATION;VALUE=URI;X-ADDRESS=Lyric Sails 1D Strand Street Frederiksted VA 00840;X-APPLE-RADIUS=500;X-TITLE=1D Strand Street:geo:-64.883613,17.7140868
END:VEVENT
BEGIN:VEVENT
DTSTART;TZID=America/St_Thomas:20260430T190000
DTEND;TZID=America/St_Thomas:20260430T220000
DTSTAMP:20260425T194449
CREATED:20260327T192719Z
LAST-MODIFIED:20260327T192720Z
UID:10015631-1777575600-1777586400@stxcalendar.com
SUMMARY:No Problemo
DESCRIPTION:
URL:https://stxcalendar.com/events-calendar/no-problemo-2/2026-04-30/
LOCATION:Brew STX\, 55 A&B Kings Alley\, Christiansted\, VI\, 00820\, Virgin Islands (U.S.)
CATEGORIES:Live Music
ATTACH;FMTTYPE=image/jpeg:https://stxcalendar.com/wp-content/uploads/2026/02/no-problemo-at-brew-stx-e1774639533832.jpg
GEO:17.7468717;-64.703913
X-APPLE-STRUCTURED-LOCATION;VALUE=URI;X-ADDRESS=Brew STX 55 A&B Kings Alley Christiansted VI 00820 Virgin Islands (U.S.);X-APPLE-RADIUS=500;X-TITLE=55 A&B Kings Alley:geo:-64.703913,17.7468717
END:VEVENT
BEGIN:VEVENT
DTSTART;TZID=America/St_Thomas:20260430T180000
DTEND;TZID=America/St_Thomas:20260430T210000
DTSTAMP:20260425T194449
CREATED:20260327T182114Z
LAST-MODIFIED:20260327T182115Z
UID:10015453-1777572000-1777582800@stxcalendar.com
SUMMARY:Karaoke
DESCRIPTION:
URL:https://stxcalendar.com/events-calendar/karaoke-8/2026-04-30/
LOCATION:Sion Farm Distillery\, 4000 Sion Farm\, Christiansted\, VI\, 00820\, Virgin Islands (U.S.)
CATEGORIES:Karaoke
GEO:17.7445481;-64.7059208
X-APPLE-STRUCTURED-LOCATION;VALUE=URI;X-ADDRESS=Sion Farm Distillery 4000 Sion Farm Christiansted VI 00820 Virgin Islands (U.S.);X-APPLE-RADIUS=500;X-TITLE=4000 Sion Farm:geo:-64.7059208,17.7445481
END:VEVENT
BEGIN:VEVENT
DTSTART;TZID=America/St_Thomas:20260430T170000
DTEND;TZID=America/St_Thomas:20260430T193000
DTSTAMP:20260425T194449
CREATED:20260424T203203Z
LAST-MODIFIED:20260424T203259Z
UID:10015583-1777568400-1777577400@stxcalendar.com
SUMMARY:Live Music Sunset Sail w/ Danny Draher
DESCRIPTION:Enjoy a sunset sail with live music aboard Lyric Sails. Enjoy complimentary rum punch and a cash bar.Book your sail at LyricSails.com
URL:https://stxcalendar.com/events-calendar/live-music-sunset-sail-w-danny-draher-2/
LOCATION:Lyric Sails\, 1D Strand Street\, Frederiksted\, VA\, 00840
CATEGORIES:Live Music
ATTACH;FMTTYPE=image/png:https://stxcalendar.com/wp-content/uploads/2026/03/danny-draher-aboard-lyric-sails.png
GEO:17.7140868;-64.883613
X-APPLE-STRUCTURED-LOCATION;VALUE=URI;X-ADDRESS=Lyric Sails 1D Strand Street Frederiksted VA 00840;X-APPLE-RADIUS=500;X-TITLE=1D Strand Street:geo:-64.883613,17.7140868
END:VEVENT
BEGIN:VEVENT
DTSTART;TZID=America/St_Thomas:20260430T163000
DTEND;TZID=America/St_Thomas:20260430T193000
DTSTAMP:20260425T194449
CREATED:20260424T212305Z
LAST-MODIFIED:20260424T212306Z
UID:10015916-1777566600-1777577400@stxcalendar.com
SUMMARY:Pete Leske
DESCRIPTION:
URL:https://stxcalendar.com/events-calendar/pete-leske-3/
LOCATION:Blues’ Backyard BBQ\, 32K LaGrande Princesse\, Christiansted\, VI\, 00820\, Virgin Islands (U.S.)
CATEGORIES:Live Music
GEO:17.758144586781;-64.737225452965
X-APPLE-STRUCTURED-LOCATION;VALUE=URI;X-ADDRESS=Blues’ Backyard BBQ 32K LaGrande Princesse Christiansted VI 00820 Virgin Islands (U.S.);X-APPLE-RADIUS=500;X-TITLE=32K LaGrande Princesse:geo:-64.737225452965,17.758144586781
END:VEVENT
BEGIN:VEVENT
DTSTART;TZID=America/St_Thomas:20260430T080000
DTEND;TZID=America/St_Thomas:20260430T180000
DTSTAMP:20260425T194449
CREATED:20250905T152030Z
LAST-MODIFIED:20250905T152043Z
UID:10013528-1777536000-1777572000@stxcalendar.com
SUMMARY:RCL Rhapsody of the Seas
DESCRIPTION:Cruise ship in port
URL:https://stxcalendar.com/events-calendar/rcl-rhapsody-of-the-seas-4/2026-04-30/
LOCATION:Frederiksted Pier (Ann E. Abramson Pier)\, P478+J7\, Frederiksted\, VI\, 00840\, Virgin Islands (U.S.)
CATEGORIES:Cruise Ship Schedule St Croix
GEO:17.7140625;-64.8843125
X-APPLE-STRUCTURED-LOCATION;VALUE=URI;X-ADDRESS=Frederiksted Pier (Ann E. Abramson Pier) P478+J7 Frederiksted VI 00840 Virgin Islands (U.S.);X-APPLE-RADIUS=500;X-TITLE=P478+J7:geo:-64.8843125,17.7140625
END:VEVENT
BEGIN:VEVENT
DTSTART;TZID=America/St_Thomas:20260429T200000
DTEND;TZID=America/St_Thomas:20260429T235900
DTSTAMP:20260425T194449
CREATED:20260327T173524Z
LAST-MODIFIED:20260327T173525Z
UID:10015441-1777492800-1777507140@stxcalendar.com
SUMMARY:Karaoke
DESCRIPTION:
URL:https://stxcalendar.com/events-calendar/karaoke-7/2026-04-29/
LOCATION:Cheeseburger in Paradise\, 67 Southgate\, Christiansted\, VI\, 00820\, Virgin Islands (U.S.)
CATEGORIES:Karaoke
GEO:17.7445481;-64.7059208
X-APPLE-STRUCTURED-LOCATION;VALUE=URI;X-ADDRESS=Cheeseburger in Paradise 67 Southgate Christiansted VI 00820 Virgin Islands (U.S.);X-APPLE-RADIUS=500;X-TITLE=67 Southgate:geo:-64.7059208,17.7445481
END:VEVENT
BEGIN:VEVENT
DTSTART;TZID=America/St_Thomas:20260429T183000
DTEND;TZID=America/St_Thomas:20260429T200000
DTSTAMP:20260425T194449
CREATED:20260424T211522Z
LAST-MODIFIED:20260424T211523Z
UID:10015888-1777487400-1777492800@stxcalendar.com
SUMMARY:Bingo
DESCRIPTION:
URL:https://stxcalendar.com/events-calendar/bingo-2/2026-04-29/
LOCATION:Castaways\, Q949+J3 Solitude\, Christiansted\, VI\, 00820\, Virgin Islands (U.S.)
CATEGORIES:Bingo
GEO:17.7445481;-64.7059208
X-APPLE-STRUCTURED-LOCATION;VALUE=URI;X-ADDRESS=Castaways Q949+J3 Solitude Christiansted VI 00820 Virgin Islands (U.S.);X-APPLE-RADIUS=500;X-TITLE=Q949+J3 Solitude:geo:-64.7059208,17.7445481
END:VEVENT
BEGIN:VEVENT
DTSTART;TZID=America/St_Thomas:20260429T173000
DTEND;TZID=America/St_Thomas:20260429T203000
DTSTAMP:20260425T194449
CREATED:20260403T175106Z
LAST-MODIFIED:20260403T175108Z
UID:10015663-1777483800-1777494600@stxcalendar.com
SUMMARY:Gyasi Clarke
DESCRIPTION:Enjoy the smooth sounds of singer/songwriter and guitarist\, Gyasi Clarke. Reservations encouraged.
URL:https://stxcalendar.com/events-calendar/gyasi-clarke/2026-04-29/
LOCATION:Landing Beach Bar\, 110C Cane Bay\, Christiansted\, VI\, 00850\, Virgin Islands (U.S.)
CATEGORIES:Live Music
GEO:17.7724467;-64.8106096
X-APPLE-STRUCTURED-LOCATION;VALUE=URI;X-ADDRESS=Landing Beach Bar 110C Cane Bay Christiansted VI 00850 Virgin Islands (U.S.);X-APPLE-RADIUS=500;X-TITLE=110C Cane Bay:geo:-64.8106096,17.7724467
END:VEVENT
BEGIN:VEVENT
DTSTART;TZID=America/St_Thomas:20260429T170000
DTEND;TZID=America/St_Thomas:20260429T193000
DTSTAMP:20260425T194449
CREATED:20260424T202553Z
LAST-MODIFIED:20260424T202553Z
UID:10015810-1777482000-1777491000@stxcalendar.com
SUMMARY:Live Music Sunset Sail w/ Kim Wentzel
DESCRIPTION:Enjoy a sunset sail with live music aboard Lyric Sails. Enjoy complimentary rum punch and a cash bar.Book your sail at LyricSails.com
URL:https://stxcalendar.com/events-calendar/live-music-sunset-sail-w-kim-wentzel-4/2026-04-29/
LOCATION:Lyric Sails\, 1D Strand Street\, Frederiksted\, VA\, 00840
CATEGORIES:Live Music
ATTACH;FMTTYPE=image/png:https://stxcalendar.com/wp-content/uploads/2026/03/kim-wentzel-aboard-lyric-sails.png
GEO:17.7140868;-64.883613
X-APPLE-STRUCTURED-LOCATION;VALUE=URI;X-ADDRESS=Lyric Sails 1D Strand Street Frederiksted VA 00840;X-APPLE-RADIUS=500;X-TITLE=1D Strand Street:geo:-64.883613,17.7140868
END:VEVENT
END:VCALENDAR