BEGIN:VCALENDAR
VERSION:2.0
PRODID:-//St Croix Calendar Weekly Events Music US Virgin Islands - ECPv6.15.20//NONSGML v1.0//EN
CALSCALE:GREGORIAN
METHOD:PUBLISH
X-WR-CALNAME:St Croix Calendar Weekly Events Music US Virgin Islands
X-ORIGINAL-URL:https://stxcalendar.com
X-WR-CALDESC:Events for St Croix Calendar Weekly Events Music US Virgin Islands
REFRESH-INTERVAL;VALUE=DURATION:PT1H
X-Robots-Tag:noindex
X-PUBLISHED-TTL:PT1H
BEGIN:VTIMEZONE
TZID:America/St_Thomas
BEGIN:STANDARD
TZOFFSETFROM:-0400
TZOFFSETTO:-0400
TZNAME:AST
DTSTART:20250101T000000
END:STANDARD
END:VTIMEZONE
BEGIN:VEVENT
DTSTART;TZID=America/St_Thomas:20260520T173000
DTEND;TZID=America/St_Thomas:20260520T203000
DTSTAMP:20260425T165407
CREATED:20260403T175106Z
LAST-MODIFIED:20260403T175108Z
UID:10015666-1779298200-1779309000@stxcalendar.com
SUMMARY:Gyasi Clarke
DESCRIPTION:Enjoy the smooth sounds of singer/songwriter and guitarist\, Gyasi Clarke. Reservations encouraged.
URL:https://stxcalendar.com/events-calendar/gyasi-clarke/2026-05-20/
LOCATION:Landing Beach Bar\, 110C Cane Bay\, Christiansted\, VI\, 00850\, Virgin Islands (U.S.)
CATEGORIES:Live Music
GEO:17.7724467;-64.8106096
X-APPLE-STRUCTURED-LOCATION;VALUE=URI;X-ADDRESS=Landing Beach Bar 110C Cane Bay Christiansted VI 00850 Virgin Islands (U.S.);X-APPLE-RADIUS=500;X-TITLE=110C Cane Bay:geo:-64.8106096,17.7724467
END:VEVENT
BEGIN:VEVENT
DTSTART;TZID=America/St_Thomas:20260520T170000
DTEND;TZID=America/St_Thomas:20260520T193000
DTSTAMP:20260425T165407
CREATED:20260424T202553Z
LAST-MODIFIED:20260424T202553Z
UID:10015813-1779296400-1779305400@stxcalendar.com
SUMMARY:Live Music Sunset Sail w/ Kim Wentzel
DESCRIPTION:Enjoy a sunset sail with live music aboard Lyric Sails. Enjoy complimentary rum punch and a cash bar.Book your sail at LyricSails.com
URL:https://stxcalendar.com/events-calendar/live-music-sunset-sail-w-kim-wentzel-4/2026-05-20/
LOCATION:Lyric Sails\, 1D Strand Street\, Frederiksted\, VA\, 00840
CATEGORIES:Live Music
ATTACH;FMTTYPE=image/png:https://stxcalendar.com/wp-content/uploads/2026/03/kim-wentzel-aboard-lyric-sails.png
GEO:17.7140868;-64.883613
X-APPLE-STRUCTURED-LOCATION;VALUE=URI;X-ADDRESS=Lyric Sails 1D Strand Street Frederiksted VA 00840;X-APPLE-RADIUS=500;X-TITLE=1D Strand Street:geo:-64.883613,17.7140868
END:VEVENT
BEGIN:VEVENT
DTSTART;TZID=America/St_Thomas:20260520T170000
DTEND;TZID=America/St_Thomas:20260520T190000
DTSTAMP:20260425T165407
CREATED:20260216T173650Z
LAST-MODIFIED:20260216T173652Z
UID:10015295-1779296400-1779303600@stxcalendar.com
SUMMARY:Crab Races with Tito & Sue
DESCRIPTION:Fun for the entire family! Race your hermit crab to win prizes.
URL:https://stxcalendar.com/events-calendar/crab-races-with-tito-sue-2/2026-05-20/
LOCATION:Brew STX\, 55 A&B Kings Alley\, Christiansted\, VI\, 00820\, Virgin Islands (U.S.)
CATEGORIES:Family Friendly Events on St Croix
ATTACH;FMTTYPE=image/jpeg:https://stxcalendar.com/wp-content/uploads/2026/01/brewstx-crab-races-e1769195632757.jpg
GEO:17.7468717;-64.703913
X-APPLE-STRUCTURED-LOCATION;VALUE=URI;X-ADDRESS=Brew STX 55 A&B Kings Alley Christiansted VI 00820 Virgin Islands (U.S.);X-APPLE-RADIUS=500;X-TITLE=55 A&B Kings Alley:geo:-64.703913,17.7468717
END:VEVENT
BEGIN:VEVENT
DTSTART;TZID=America/St_Thomas:20260519T180000
DTEND;TZID=America/St_Thomas:20260519T200000
DTSTAMP:20260425T165407
CREATED:20260417T163444Z
LAST-MODIFIED:20260417T163445Z
UID:10015750-1779213600-1779220800@stxcalendar.com
SUMMARY:Tuesday Night Trivia
DESCRIPTION:Think you’ve got what it takes to be trivia champs? Grab your team and get ready to compete! \n\n\n\n\nTeams can have up to 6 players\n\n\n\nPrizes are awarded after every round\n\n\n\nTeams face off for 1st and 2nd place glory\n\n\n\n\nBring your A-game\, some good vibes\, and a whole lot of brainpower. \n\n\n\nCall 340-772-2337 to reserve a table for your team of 6 people or less or come early and find a spot and enjoy Happy Hour (starting at 4:00 pm)
URL:https://stxcalendar.com/events-calendar/tuesday-night-trivia/2026-05-19/
LOCATION:Leatherback Brewing Company\, William Roebuck Industrial Park\, #4 Negro Bay\, Frederiksted\, VI\, 00840\, Virgin Islands (U.S.)
CATEGORIES:Trivia
ATTACH;FMTTYPE=image/jpeg:https://stxcalendar.com/wp-content/uploads/2026/04/Trivia-Night-Leatherback-Brewing.jpg
GEO:17.7062406;-64.7999261
X-APPLE-STRUCTURED-LOCATION;VALUE=URI;X-ADDRESS=Leatherback Brewing Company William Roebuck Industrial Park #4 Negro Bay Frederiksted VI 00840 Virgin Islands (U.S.);X-APPLE-RADIUS=500;X-TITLE=William Roebuck Industrial Park\, #4 Negro Bay:geo:-64.7999261,17.7062406
END:VEVENT
BEGIN:VEVENT
DTSTART;TZID=America/St_Thomas:20260519T170000
DTEND;TZID=America/St_Thomas:20260519T193000
DTSTAMP:20260425T165407
CREATED:20260424T202411Z
LAST-MODIFIED:20260424T202412Z
UID:10015790-1779210000-1779219000@stxcalendar.com
SUMMARY:Live Music Sunset Sail w/ Mercy Child
DESCRIPTION:Enjoy a sunset sail with live music aboard Lyric Sails. Enjoy complimentary rum punch and a cash bar.Book your sail at LyricSails.com
URL:https://stxcalendar.com/events-calendar/live-music-sunset-sail-w-mercy-child-8/2026-05-19/
LOCATION:Lyric Sails\, 1D Strand Street\, Frederiksted\, VA\, 00840
CATEGORIES:Live Music
ATTACH;FMTTYPE=image/png:https://stxcalendar.com/wp-content/uploads/2026/03/mercy-child-aboard-lyric-sails.png
GEO:17.7140868;-64.883613
X-APPLE-STRUCTURED-LOCATION;VALUE=URI;X-ADDRESS=Lyric Sails 1D Strand Street Frederiksted VA 00840;X-APPLE-RADIUS=500;X-TITLE=1D Strand Street:geo:-64.883613,17.7140868
END:VEVENT
BEGIN:VEVENT
DTSTART;TZID=America/St_Thomas:20260518T180000
DTEND;TZID=America/St_Thomas:20260518T210000
DTSTAMP:20260425T165407
CREATED:20260424T201047Z
LAST-MODIFIED:20260424T201048Z
UID:10015765-1779127200-1779138000@stxcalendar.com
SUMMARY:Chris Laggini
DESCRIPTION:
URL:https://stxcalendar.com/events-calendar/chris-laggini/2026-05-18/
LOCATION:Castaways\, Q949+J3 Solitude\, Christiansted\, VI\, 00820\, Virgin Islands (U.S.)
CATEGORIES:Live Music
GEO:17.7445481;-64.7059208
X-APPLE-STRUCTURED-LOCATION;VALUE=URI;X-ADDRESS=Castaways Q949+J3 Solitude Christiansted VI 00820 Virgin Islands (U.S.);X-APPLE-RADIUS=500;X-TITLE=Q949+J3 Solitude:geo:-64.7059208,17.7445481
END:VEVENT
BEGIN:VEVENT
DTSTART;TZID=America/St_Thomas:20260518T180000
DTEND;TZID=America/St_Thomas:20260518T203000
DTSTAMP:20260425T165407
CREATED:20260424T210712Z
LAST-MODIFIED:20260424T210713Z
UID:10015879-1779127200-1779136200@stxcalendar.com
SUMMARY:Bingo
DESCRIPTION:
URL:https://stxcalendar.com/events-calendar/bingo/2026-05-18/
LOCATION:Off The Wall\, Q5FR+R4\, Cane Bay\, VI\, 00851\, Virgin Islands (U.S.)
CATEGORIES:Bingo
GEO:17.7745625;-64.8096875
X-APPLE-STRUCTURED-LOCATION;VALUE=URI;X-ADDRESS=Off The Wall Q5FR+R4 Cane Bay VI 00851 Virgin Islands (U.S.);X-APPLE-RADIUS=500;X-TITLE=Q5FR+R4:geo:-64.8096875,17.7745625
END:VEVENT
BEGIN:VEVENT
DTSTART;TZID=America/St_Thomas:20260518T080000
DTEND;TZID=America/St_Thomas:20260518T180000
DTSTAMP:20260425T165407
CREATED:20250905T152338Z
LAST-MODIFIED:20250905T152340Z
UID:10013551-1779091200-1779127200@stxcalendar.com
SUMMARY:RCL Rhapsody of the Seas
DESCRIPTION:Cruise ship in port
URL:https://stxcalendar.com/events-calendar/rcl-rhapsody-of-the-seas-7/2026-05-18/
LOCATION:Frederiksted Pier (Ann E. Abramson Pier)\, P478+J7\, Frederiksted\, VI\, 00840\, Virgin Islands (U.S.)
CATEGORIES:Cruise Ship Schedule St Croix
GEO:17.7140625;-64.8843125
X-APPLE-STRUCTURED-LOCATION;VALUE=URI;X-ADDRESS=Frederiksted Pier (Ann E. Abramson Pier) P478+J7 Frederiksted VI 00840 Virgin Islands (U.S.);X-APPLE-RADIUS=500;X-TITLE=P478+J7:geo:-64.8843125,17.7140625
END:VEVENT
BEGIN:VEVENT
DTSTART;TZID=America/St_Thomas:20260517T170000
DTEND;TZID=America/St_Thomas:20260517T193000
DTSTAMP:20260425T165407
CREATED:20260424T204254Z
LAST-MODIFIED:20260424T204255Z
UID:10015867-1779037200-1779046200@stxcalendar.com
SUMMARY:Live Music Sunset Sail w/ Adrian Rogers
DESCRIPTION:Enjoy a sunset sail with live music aboard Lyric Sails. Enjoy complimentary rum punch and a cash bar.Book your sail at LyricSails.com
URL:https://stxcalendar.com/events-calendar/live-music-sunset-sail-w-adrian-rogers-3/2026-05-17/
LOCATION:Lyric Sails\, 1D Strand Street\, Frederiksted\, VA\, 00840
CATEGORIES:Live Music
ATTACH;FMTTYPE=image/png:https://stxcalendar.com/wp-content/uploads/2026/03/adrian-rogers-aboard-lyric-sails.png
GEO:17.7140868;-64.883613
X-APPLE-STRUCTURED-LOCATION;VALUE=URI;X-ADDRESS=Lyric Sails 1D Strand Street Frederiksted VA 00840;X-APPLE-RADIUS=500;X-TITLE=1D Strand Street:geo:-64.883613,17.7140868
END:VEVENT
BEGIN:VEVENT
DTSTART;TZID=America/St_Thomas:20260516T173000
DTEND;TZID=America/St_Thomas:20260516T203000
DTSTAMP:20260425T165407
CREATED:20260403T175512Z
LAST-MODIFIED:20260403T175513Z
UID:10015685-1778952600-1778963400@stxcalendar.com
SUMMARY:Abbie
DESCRIPTION:There’s nothing better than the sounds of steelpan with Abbie\, good food\, and a tropical drink\, while enjoying the view. Reservations encouraged.
URL:https://stxcalendar.com/events-calendar/abbie/2026-05-16/
LOCATION:Landing Beach Bar\, 110C Cane Bay\, Christiansted\, VI\, 00850\, Virgin Islands (U.S.)
CATEGORIES:Live Music
GEO:17.7724467;-64.8106096
X-APPLE-STRUCTURED-LOCATION;VALUE=URI;X-ADDRESS=Landing Beach Bar 110C Cane Bay Christiansted VI 00850 Virgin Islands (U.S.);X-APPLE-RADIUS=500;X-TITLE=110C Cane Bay:geo:-64.8106096,17.7724467
END:VEVENT
BEGIN:VEVENT
DTSTART;TZID=America/St_Thomas:20260516T170000
DTEND;TZID=America/St_Thomas:20260516T193000
DTSTAMP:20260425T165407
CREATED:20260424T202136Z
LAST-MODIFIED:20260424T202137Z
UID:10015772-1778950800-1778959800@stxcalendar.com
SUMMARY:Live Music Sunset Sail w/ Mercy Child
DESCRIPTION:Enjoy a sunset sail with live music aboard Lyric Sails. Enjoy complimentary rum punch and a cash bar.Book your sail at LyricSails.com
URL:https://stxcalendar.com/events-calendar/live-music-sunset-sail-w-mercy-child-4/2026-05-16/
LOCATION:Lyric Sails\, 1D Strand Street\, Frederiksted\, VA\, 00840
CATEGORIES:Live Music
ATTACH;FMTTYPE=image/png:https://stxcalendar.com/wp-content/uploads/2026/03/mercy-child-aboard-lyric-sails.png
GEO:17.7140868;-64.883613
X-APPLE-STRUCTURED-LOCATION;VALUE=URI;X-ADDRESS=Lyric Sails 1D Strand Street Frederiksted VA 00840;X-APPLE-RADIUS=500;X-TITLE=1D Strand Street:geo:-64.883613,17.7140868
END:VEVENT
BEGIN:VEVENT
DTSTART;TZID=America/St_Thomas:20260515T200000
DTEND;TZID=America/St_Thomas:20260515T235900
DTSTAMP:20260425T165407
CREATED:20260327T183104Z
LAST-MODIFIED:20260327T183105Z
UID:10015478-1778875200-1778889540@stxcalendar.com
SUMMARY:Karaoke
DESCRIPTION:Upstairs on the Brew Deck!
URL:https://stxcalendar.com/events-calendar/karaoke-12/2026-05-15/
LOCATION:Brew STX\, 55 A&B Kings Alley\, Christiansted\, VI\, 00820\, Virgin Islands (U.S.)
CATEGORIES:Karaoke
ATTACH;FMTTYPE=image/jpeg:https://stxcalendar.com/wp-content/uploads/2026/03/karaoke-at-brew-stx-e1774636066686.jpg
GEO:17.7468717;-64.703913
X-APPLE-STRUCTURED-LOCATION;VALUE=URI;X-ADDRESS=Brew STX 55 A&B Kings Alley Christiansted VI 00820 Virgin Islands (U.S.);X-APPLE-RADIUS=500;X-TITLE=55 A&B Kings Alley:geo:-64.703913,17.7468717
END:VEVENT
BEGIN:VEVENT
DTSTART;TZID=America/St_Thomas:20260515T190000
DTEND;TZID=America/St_Thomas:20260515T220000
DTSTAMP:20260425T165407
CREATED:20260410T190552Z
LAST-MODIFIED:20260410T190553Z
UID:10015729-1778871600-1778882400@stxcalendar.com
SUMMARY:Danny Draher
DESCRIPTION:
URL:https://stxcalendar.com/events-calendar/danny-draher/2026-05-15/
LOCATION:Cheeseburger in Paradise\, 67 Southgate\, Christiansted\, VI\, 00820\, Virgin Islands (U.S.)
CATEGORIES:Live Music
GEO:17.7445481;-64.7059208
X-APPLE-STRUCTURED-LOCATION;VALUE=URI;X-ADDRESS=Cheeseburger in Paradise 67 Southgate Christiansted VI 00820 Virgin Islands (U.S.);X-APPLE-RADIUS=500;X-TITLE=67 Southgate:geo:-64.7059208,17.7445481
END:VEVENT
BEGIN:VEVENT
DTSTART;TZID=America/St_Thomas:20260515T180000
DTEND;TZID=America/St_Thomas:20260515T210000
DTSTAMP:20260425T165407
CREATED:20260424T211819Z
LAST-MODIFIED:20260424T211819Z
UID:10015909-1778868000-1778878800@stxcalendar.com
SUMMARY:Gerry Lakas 
DESCRIPTION:
URL:https://stxcalendar.com/events-calendar/gerry-lakas-2/2026-05-15/
LOCATION:Castaways\, Q949+J3 Solitude\, Christiansted\, VI\, 00820\, Virgin Islands (U.S.)
CATEGORIES:Live Music
GEO:17.7445481;-64.7059208
X-APPLE-STRUCTURED-LOCATION;VALUE=URI;X-ADDRESS=Castaways Q949+J3 Solitude Christiansted VI 00820 Virgin Islands (U.S.);X-APPLE-RADIUS=500;X-TITLE=Q949+J3 Solitude:geo:-64.7059208,17.7445481
END:VEVENT
BEGIN:VEVENT
DTSTART;TZID=America/St_Thomas:20260515T173000
DTEND;TZID=America/St_Thomas:20260515T193000
DTSTAMP:20260425T165407
CREATED:20260417T164314Z
LAST-MODIFIED:20260417T164319Z
UID:10015756-1778866200-1778873400@stxcalendar.com
SUMMARY:Crab Races with Tito & Sue
DESCRIPTION:Cheer on your crab while enjoying your favorite Leatherback brew or a cocktail! Bring the whole family for some pizza and loads of fun! Crabs available starting at 5:30. Arrive early to get a good seat!
URL:https://stxcalendar.com/events-calendar/crab-races-with-tito-sue-3/2026-05-15/
LOCATION:Leatherback Brewing Company\, William Roebuck Industrial Park\, #4 Negro Bay\, Frederiksted\, VI\, 00840\, Virgin Islands (U.S.)
CATEGORIES:Family Friendly Events on St Croix
ATTACH;FMTTYPE=image/png:https://stxcalendar.com/wp-content/uploads/2026/04/Carb-Races-at-leatherback-brewing-company.png
GEO:17.7062406;-64.7999261
X-APPLE-STRUCTURED-LOCATION;VALUE=URI;X-ADDRESS=Leatherback Brewing Company William Roebuck Industrial Park #4 Negro Bay Frederiksted VI 00840 Virgin Islands (U.S.);X-APPLE-RADIUS=500;X-TITLE=William Roebuck Industrial Park\, #4 Negro Bay:geo:-64.7999261,17.7062406
END:VEVENT
BEGIN:VEVENT
DTSTART;TZID=America/St_Thomas:20260515T170000
DTEND;TZID=America/St_Thomas:20260515T193000
DTSTAMP:20260425T165407
CREATED:20260424T202800Z
LAST-MODIFIED:20260424T203013Z
UID:10015831-1778864400-1778873400@stxcalendar.com
SUMMARY:Live Music Sunset Sail w/ Gyasi Clarke
DESCRIPTION:Enjoy a sunset sail with live music aboard Lyric Sails. Enjoy complimentary rum punch and a cash bar.Book your sail at LyricSails.com
URL:https://stxcalendar.com/events-calendar/live-music-sunset-sail-w-gyasi-clarke-4/2026-05-15/
LOCATION:Lyric Sails\, 1D Strand Street\, Frederiksted\, VA\, 00840
CATEGORIES:Live Music
ATTACH;FMTTYPE=image/png:https://stxcalendar.com/wp-content/uploads/2025/12/gyasi-clarke-aboard-lyric-sails.png
GEO:17.7140868;-64.883613
X-APPLE-STRUCTURED-LOCATION;VALUE=URI;X-ADDRESS=Lyric Sails 1D Strand Street Frederiksted VA 00840;X-APPLE-RADIUS=500;X-TITLE=1D Strand Street:geo:-64.883613,17.7140868
END:VEVENT
BEGIN:VEVENT
DTSTART;TZID=America/St_Thomas:20260514T190000
DTEND;TZID=America/St_Thomas:20260514T220000
DTSTAMP:20260425T165407
CREATED:20260327T192719Z
LAST-MODIFIED:20260327T192720Z
UID:10015633-1778785200-1778796000@stxcalendar.com
SUMMARY:No Problemo
DESCRIPTION:
URL:https://stxcalendar.com/events-calendar/no-problemo-2/2026-05-14/
LOCATION:Brew STX\, 55 A&B Kings Alley\, Christiansted\, VI\, 00820\, Virgin Islands (U.S.)
CATEGORIES:Live Music
ATTACH;FMTTYPE=image/jpeg:https://stxcalendar.com/wp-content/uploads/2026/02/no-problemo-at-brew-stx-e1774639533832.jpg
GEO:17.7468717;-64.703913
X-APPLE-STRUCTURED-LOCATION;VALUE=URI;X-ADDRESS=Brew STX 55 A&B Kings Alley Christiansted VI 00820 Virgin Islands (U.S.);X-APPLE-RADIUS=500;X-TITLE=55 A&B Kings Alley:geo:-64.703913,17.7468717
END:VEVENT
BEGIN:VEVENT
DTSTART;TZID=America/St_Thomas:20260514T180000
DTEND;TZID=America/St_Thomas:20260514T210000
DTSTAMP:20260425T165407
CREATED:20260424T211658Z
LAST-MODIFIED:20260424T211659Z
UID:10015900-1778781600-1778792400@stxcalendar.com
SUMMARY:Pete n Leyna
DESCRIPTION:
URL:https://stxcalendar.com/events-calendar/pete-n-leyna/2026-05-14/
LOCATION:Castaways\, Q949+J3 Solitude\, Christiansted\, VI\, 00820\, Virgin Islands (U.S.)
CATEGORIES:Live Music
GEO:17.7445481;-64.7059208
X-APPLE-STRUCTURED-LOCATION;VALUE=URI;X-ADDRESS=Castaways Q949+J3 Solitude Christiansted VI 00820 Virgin Islands (U.S.);X-APPLE-RADIUS=500;X-TITLE=Q949+J3 Solitude:geo:-64.7059208,17.7445481
END:VEVENT
BEGIN:VEVENT
DTSTART;TZID=America/St_Thomas:20260514T170000
DTEND;TZID=America/St_Thomas:20260514T193000
DTSTAMP:20260425T165407
CREATED:20260424T203441Z
LAST-MODIFIED:20260424T203441Z
UID:10015847-1778778000-1778787000@stxcalendar.com
SUMMARY:Live Music Sunset Sail w/ Danny Draher
DESCRIPTION:Enjoy a sunset sail with live music aboard Lyric Sails. Enjoy complimentary rum punch and a cash bar.Book your sail at LyricSails.com
URL:https://stxcalendar.com/events-calendar/live-music-sunset-sail-w-danny-draher-4/2026-05-14/
LOCATION:Lyric Sails\, 1D Strand Street\, Frederiksted\, VA\, 00840
CATEGORIES:Live Music
ATTACH;FMTTYPE=image/png:https://stxcalendar.com/wp-content/uploads/2026/03/danny-draher-aboard-lyric-sails.png
GEO:17.7140868;-64.883613
X-APPLE-STRUCTURED-LOCATION;VALUE=URI;X-ADDRESS=Lyric Sails 1D Strand Street Frederiksted VA 00840;X-APPLE-RADIUS=500;X-TITLE=1D Strand Street:geo:-64.883613,17.7140868
END:VEVENT
BEGIN:VEVENT
DTSTART;TZID=America/St_Thomas:20260514T080000
DTEND;TZID=America/St_Thomas:20260514T180000
DTSTAMP:20260425T165407
CREATED:20250905T152030Z
LAST-MODIFIED:20250905T152043Z
UID:10013529-1778745600-1778781600@stxcalendar.com
SUMMARY:RCL Rhapsody of the Seas
DESCRIPTION:Cruise ship in port
URL:https://stxcalendar.com/events-calendar/rcl-rhapsody-of-the-seas-4/2026-05-14/
LOCATION:Frederiksted Pier (Ann E. Abramson Pier)\, P478+J7\, Frederiksted\, VI\, 00840\, Virgin Islands (U.S.)
CATEGORIES:Cruise Ship Schedule St Croix
GEO:17.7140625;-64.8843125
X-APPLE-STRUCTURED-LOCATION;VALUE=URI;X-ADDRESS=Frederiksted Pier (Ann E. Abramson Pier) P478+J7 Frederiksted VI 00840 Virgin Islands (U.S.);X-APPLE-RADIUS=500;X-TITLE=P478+J7:geo:-64.8843125,17.7140625
END:VEVENT
BEGIN:VEVENT
DTSTART;TZID=America/St_Thomas:20260513T183000
DTEND;TZID=America/St_Thomas:20260513T200000
DTSTAMP:20260425T165407
CREATED:20260424T211522Z
LAST-MODIFIED:20260424T211523Z
UID:10015890-1778697000-1778702400@stxcalendar.com
SUMMARY:Bingo
DESCRIPTION:
URL:https://stxcalendar.com/events-calendar/bingo-2/2026-05-13/
LOCATION:Castaways\, Q949+J3 Solitude\, Christiansted\, VI\, 00820\, Virgin Islands (U.S.)
CATEGORIES:Bingo
GEO:17.7445481;-64.7059208
X-APPLE-STRUCTURED-LOCATION;VALUE=URI;X-ADDRESS=Castaways Q949+J3 Solitude Christiansted VI 00820 Virgin Islands (U.S.);X-APPLE-RADIUS=500;X-TITLE=Q949+J3 Solitude:geo:-64.7059208,17.7445481
END:VEVENT
BEGIN:VEVENT
DTSTART;TZID=America/St_Thomas:20260513T173000
DTEND;TZID=America/St_Thomas:20260513T203000
DTSTAMP:20260425T165407
CREATED:20260403T175106Z
LAST-MODIFIED:20260403T175108Z
UID:10015665-1778693400-1778704200@stxcalendar.com
SUMMARY:Gyasi Clarke
DESCRIPTION:Enjoy the smooth sounds of singer/songwriter and guitarist\, Gyasi Clarke. Reservations encouraged.
URL:https://stxcalendar.com/events-calendar/gyasi-clarke/2026-05-13/
LOCATION:Landing Beach Bar\, 110C Cane Bay\, Christiansted\, VI\, 00850\, Virgin Islands (U.S.)
CATEGORIES:Live Music
GEO:17.7724467;-64.8106096
X-APPLE-STRUCTURED-LOCATION;VALUE=URI;X-ADDRESS=Landing Beach Bar 110C Cane Bay Christiansted VI 00850 Virgin Islands (U.S.);X-APPLE-RADIUS=500;X-TITLE=110C Cane Bay:geo:-64.8106096,17.7724467
END:VEVENT
BEGIN:VEVENT
DTSTART;TZID=America/St_Thomas:20260513T170000
DTEND;TZID=America/St_Thomas:20260513T193000
DTSTAMP:20260425T165407
CREATED:20260424T202553Z
LAST-MODIFIED:20260424T202553Z
UID:10015812-1778691600-1778700600@stxcalendar.com
SUMMARY:Live Music Sunset Sail w/ Kim Wentzel
DESCRIPTION:Enjoy a sunset sail with live music aboard Lyric Sails. Enjoy complimentary rum punch and a cash bar.Book your sail at LyricSails.com
URL:https://stxcalendar.com/events-calendar/live-music-sunset-sail-w-kim-wentzel-4/2026-05-13/
LOCATION:Lyric Sails\, 1D Strand Street\, Frederiksted\, VA\, 00840
CATEGORIES:Live Music
ATTACH;FMTTYPE=image/png:https://stxcalendar.com/wp-content/uploads/2026/03/kim-wentzel-aboard-lyric-sails.png
GEO:17.7140868;-64.883613
X-APPLE-STRUCTURED-LOCATION;VALUE=URI;X-ADDRESS=Lyric Sails 1D Strand Street Frederiksted VA 00840;X-APPLE-RADIUS=500;X-TITLE=1D Strand Street:geo:-64.883613,17.7140868
END:VEVENT
BEGIN:VEVENT
DTSTART;TZID=America/St_Thomas:20260513T170000
DTEND;TZID=America/St_Thomas:20260513T190000
DTSTAMP:20260425T165407
CREATED:20260216T173650Z
LAST-MODIFIED:20260216T173652Z
UID:10015294-1778691600-1778698800@stxcalendar.com
SUMMARY:Crab Races with Tito & Sue
DESCRIPTION:Fun for the entire family! Race your hermit crab to win prizes.
URL:https://stxcalendar.com/events-calendar/crab-races-with-tito-sue-2/2026-05-13/
LOCATION:Brew STX\, 55 A&B Kings Alley\, Christiansted\, VI\, 00820\, Virgin Islands (U.S.)
CATEGORIES:Family Friendly Events on St Croix
ATTACH;FMTTYPE=image/jpeg:https://stxcalendar.com/wp-content/uploads/2026/01/brewstx-crab-races-e1769195632757.jpg
GEO:17.7468717;-64.703913
X-APPLE-STRUCTURED-LOCATION;VALUE=URI;X-ADDRESS=Brew STX 55 A&B Kings Alley Christiansted VI 00820 Virgin Islands (U.S.);X-APPLE-RADIUS=500;X-TITLE=55 A&B Kings Alley:geo:-64.703913,17.7468717
END:VEVENT
BEGIN:VEVENT
DTSTART;TZID=America/St_Thomas:20260512T180000
DTEND;TZID=America/St_Thomas:20260512T200000
DTSTAMP:20260425T165407
CREATED:20260417T163444Z
LAST-MODIFIED:20260417T163445Z
UID:10015749-1778608800-1778616000@stxcalendar.com
SUMMARY:Tuesday Night Trivia
DESCRIPTION:Think you’ve got what it takes to be trivia champs? Grab your team and get ready to compete! \n\n\n\n\nTeams can have up to 6 players\n\n\n\nPrizes are awarded after every round\n\n\n\nTeams face off for 1st and 2nd place glory\n\n\n\n\nBring your A-game\, some good vibes\, and a whole lot of brainpower. \n\n\n\nCall 340-772-2337 to reserve a table for your team of 6 people or less or come early and find a spot and enjoy Happy Hour (starting at 4:00 pm)
URL:https://stxcalendar.com/events-calendar/tuesday-night-trivia/2026-05-12/
LOCATION:Leatherback Brewing Company\, William Roebuck Industrial Park\, #4 Negro Bay\, Frederiksted\, VI\, 00840\, Virgin Islands (U.S.)
CATEGORIES:Trivia
ATTACH;FMTTYPE=image/jpeg:https://stxcalendar.com/wp-content/uploads/2026/04/Trivia-Night-Leatherback-Brewing.jpg
GEO:17.7062406;-64.7999261
X-APPLE-STRUCTURED-LOCATION;VALUE=URI;X-ADDRESS=Leatherback Brewing Company William Roebuck Industrial Park #4 Negro Bay Frederiksted VI 00840 Virgin Islands (U.S.);X-APPLE-RADIUS=500;X-TITLE=William Roebuck Industrial Park\, #4 Negro Bay:geo:-64.7999261,17.7062406
END:VEVENT
BEGIN:VEVENT
DTSTART;TZID=America/St_Thomas:20260512T170000
DTEND;TZID=America/St_Thomas:20260512T193000
DTSTAMP:20260425T165407
CREATED:20260424T202411Z
LAST-MODIFIED:20260424T202412Z
UID:10015789-1778605200-1778614200@stxcalendar.com
SUMMARY:Live Music Sunset Sail w/ Mercy Child
DESCRIPTION:Enjoy a sunset sail with live music aboard Lyric Sails. Enjoy complimentary rum punch and a cash bar.Book your sail at LyricSails.com
URL:https://stxcalendar.com/events-calendar/live-music-sunset-sail-w-mercy-child-8/2026-05-12/
LOCATION:Lyric Sails\, 1D Strand Street\, Frederiksted\, VA\, 00840
CATEGORIES:Live Music
ATTACH;FMTTYPE=image/png:https://stxcalendar.com/wp-content/uploads/2026/03/mercy-child-aboard-lyric-sails.png
GEO:17.7140868;-64.883613
X-APPLE-STRUCTURED-LOCATION;VALUE=URI;X-ADDRESS=Lyric Sails 1D Strand Street Frederiksted VA 00840;X-APPLE-RADIUS=500;X-TITLE=1D Strand Street:geo:-64.883613,17.7140868
END:VEVENT
BEGIN:VEVENT
DTSTART;TZID=America/St_Thomas:20260511T180000
DTEND;TZID=America/St_Thomas:20260511T210000
DTSTAMP:20260425T165407
CREATED:20260424T201047Z
LAST-MODIFIED:20260424T201048Z
UID:10015764-1778522400-1778533200@stxcalendar.com
SUMMARY:Chris Laggini
DESCRIPTION:
URL:https://stxcalendar.com/events-calendar/chris-laggini/2026-05-11/
LOCATION:Castaways\, Q949+J3 Solitude\, Christiansted\, VI\, 00820\, Virgin Islands (U.S.)
CATEGORIES:Live Music
GEO:17.7445481;-64.7059208
X-APPLE-STRUCTURED-LOCATION;VALUE=URI;X-ADDRESS=Castaways Q949+J3 Solitude Christiansted VI 00820 Virgin Islands (U.S.);X-APPLE-RADIUS=500;X-TITLE=Q949+J3 Solitude:geo:-64.7059208,17.7445481
END:VEVENT
BEGIN:VEVENT
DTSTART;TZID=America/St_Thomas:20260511T180000
DTEND;TZID=America/St_Thomas:20260511T203000
DTSTAMP:20260425T165407
CREATED:20260424T210712Z
LAST-MODIFIED:20260424T210713Z
UID:10015878-1778522400-1778531400@stxcalendar.com
SUMMARY:Bingo
DESCRIPTION:
URL:https://stxcalendar.com/events-calendar/bingo/2026-05-11/
LOCATION:Off The Wall\, Q5FR+R4\, Cane Bay\, VI\, 00851\, Virgin Islands (U.S.)
CATEGORIES:Bingo
GEO:17.7745625;-64.8096875
X-APPLE-STRUCTURED-LOCATION;VALUE=URI;X-ADDRESS=Off The Wall Q5FR+R4 Cane Bay VI 00851 Virgin Islands (U.S.);X-APPLE-RADIUS=500;X-TITLE=Q5FR+R4:geo:-64.8096875,17.7745625
END:VEVENT
BEGIN:VEVENT
DTSTART;TZID=America/St_Thomas:20260510T170000
DTEND;TZID=America/St_Thomas:20260510T193000
DTSTAMP:20260425T165407
CREATED:20260424T203924Z
LAST-MODIFIED:20260424T203925Z
UID:10015861-1778432400-1778441400@stxcalendar.com
SUMMARY:Live Music Sunset Sail w/ Steve Katz
DESCRIPTION:Enjoy a sunset sail with live music aboard Lyric Sails. Enjoy complimentary rum punch and a cash bar.Book your sail at LyricSails.com
URL:https://stxcalendar.com/events-calendar/live-music-sunset-sail-w-steve-katz-3/2026-05-10/
LOCATION:Lyric Sails\, 1D Strand Street\, Frederiksted\, VA\, 00840
CATEGORIES:Live Music
ATTACH;FMTTYPE=image/png:https://stxcalendar.com/wp-content/uploads/2026/03/steve-katz-aboard-lyric-sails.png
GEO:17.7140868;-64.883613
X-APPLE-STRUCTURED-LOCATION;VALUE=URI;X-ADDRESS=Lyric Sails 1D Strand Street Frederiksted VA 00840;X-APPLE-RADIUS=500;X-TITLE=1D Strand Street:geo:-64.883613,17.7140868
END:VEVENT
BEGIN:VEVENT
DTSTART;TZID=America/St_Thomas:20260509T200000
DTEND;TZID=America/St_Thomas:20260509T235900
DTSTAMP:20260425T165407
CREATED:20260327T183419Z
LAST-MODIFIED:20260327T183420Z
UID:10015490-1778356800-1778371140@stxcalendar.com
SUMMARY:Karaoke
DESCRIPTION:
URL:https://stxcalendar.com/events-calendar/karaoke-13/2026-05-09/
LOCATION:Common Cents Pub\, 2110 Company Street\, Christiansted\, VI\, 00820\, Virgin Islands (U.S.)
CATEGORIES:Karaoke
GEO:17.7455726;-64.7035386
X-APPLE-STRUCTURED-LOCATION;VALUE=URI;X-ADDRESS=Common Cents Pub 2110 Company Street Christiansted VI 00820 Virgin Islands (U.S.);X-APPLE-RADIUS=500;X-TITLE=2110 Company Street:geo:-64.7035386,17.7455726
END:VEVENT
END:VCALENDAR