BEGIN:VCALENDAR
VERSION:2.0
PRODID:-//St Croix Calendar Weekly Events Music US Virgin Islands - ECPv6.15.20//NONSGML v1.0//EN
CALSCALE:GREGORIAN
METHOD:PUBLISH
X-WR-CALNAME:St Croix Calendar Weekly Events Music US Virgin Islands
X-ORIGINAL-URL:https://stxcalendar.com
X-WR-CALDESC:Events for St Croix Calendar Weekly Events Music US Virgin Islands
REFRESH-INTERVAL;VALUE=DURATION:PT1H
X-Robots-Tag:noindex
X-PUBLISHED-TTL:PT1H
BEGIN:VTIMEZONE
TZID:America/St_Thomas
BEGIN:STANDARD
TZOFFSETFROM:-0400
TZOFFSETTO:-0400
TZNAME:AST
DTSTART:20250101T000000
END:STANDARD
END:VTIMEZONE
BEGIN:VEVENT
DTSTART;TZID=America/St_Thomas:20260421T080000
DTEND;TZID=America/St_Thomas:20260421T170000
DTSTAMP:20260421T011839
CREATED:20260320T160858Z
LAST-MODIFIED:20260320T160859Z
UID:10015425-1776758400-1776790800@stxcalendar.com
SUMMARY:RCL Jewel of the Seas
DESCRIPTION:Cruise ship in port
URL:https://stxcalendar.com/events-calendar/rcl-jewel-of-the-seas-4/2026-04-21/
LOCATION:Frederiksted Pier (Ann E. Abramson Pier)\, P478+J7\, Frederiksted\, VI\, 00840\, Virgin Islands (U.S.)
CATEGORIES:Cruise Ship Schedule St Croix
GEO:17.7140625;-64.8843125
X-APPLE-STRUCTURED-LOCATION;VALUE=URI;X-ADDRESS=Frederiksted Pier (Ann E. Abramson Pier) P478+J7 Frederiksted VI 00840 Virgin Islands (U.S.);X-APPLE-RADIUS=500;X-TITLE=P478+J7:geo:-64.8843125,17.7140625
END:VEVENT
BEGIN:VEVENT
DTSTART;TZID=America/St_Thomas:20260421T163000
DTEND;TZID=America/St_Thomas:20260421T190000
DTSTAMP:20260421T011839
CREATED:20260327T191621Z
LAST-MODIFIED:20260327T191622Z
UID:10015616-1776789000-1776798000@stxcalendar.com
SUMMARY:Live Music Sunset Sail w/ Mercy Child
DESCRIPTION:Enjoy a sunset sail with live music aboard Lyric Sails. Enjoy complimentary rum punch and a cash bar.Book your sail at LyricSails.com
URL:https://stxcalendar.com/events-calendar/live-music-sunset-sail-w-mercy-child-6/2026-04-21/
LOCATION:Lyric Sails\, 1D Strand Street\, Frederiksted\, VA\, 00840
CATEGORIES:Live Music
ATTACH;FMTTYPE=image/png:https://stxcalendar.com/wp-content/uploads/2026/03/mercy-child-aboard-lyric-sails.png
GEO:17.7140868;-64.883613
X-APPLE-STRUCTURED-LOCATION;VALUE=URI;X-ADDRESS=Lyric Sails 1D Strand Street Frederiksted VA 00840;X-APPLE-RADIUS=500;X-TITLE=1D Strand Street:geo:-64.883613,17.7140868
END:VEVENT
BEGIN:VEVENT
DTSTART;TZID=America/St_Thomas:20260421T180000
DTEND;TZID=America/St_Thomas:20260421T200000
DTSTAMP:20260421T011839
CREATED:20260417T163444Z
LAST-MODIFIED:20260417T163445Z
UID:10015746-1776794400-1776801600@stxcalendar.com
SUMMARY:Tuesday Night Trivia
DESCRIPTION:Think you’ve got what it takes to be trivia champs? Grab your team and get ready to compete! \n\n\n\n\nTeams can have up to 6 players\n\n\n\nPrizes are awarded after every round\n\n\n\nTeams face off for 1st and 2nd place glory\n\n\n\n\nBring your A-game\, some good vibes\, and a whole lot of brainpower. \n\n\n\nCall 340-772-2337 to reserve a table for your team of 6 people or less or come early and find a spot and enjoy Happy Hour (starting at 4:00 pm)
URL:https://stxcalendar.com/events-calendar/tuesday-night-trivia/2026-04-21/
LOCATION:Leatherback Brewing Company\, William Roebuck Industrial Park\, #4 Negro Bay\, Frederiksted\, VI\, 00840\, Virgin Islands (U.S.)
CATEGORIES:Trivia
ATTACH;FMTTYPE=image/jpeg:https://stxcalendar.com/wp-content/uploads/2026/04/Trivia-Night-Leatherback-Brewing.jpg
GEO:17.7062406;-64.7999261
X-APPLE-STRUCTURED-LOCATION;VALUE=URI;X-ADDRESS=Leatherback Brewing Company William Roebuck Industrial Park #4 Negro Bay Frederiksted VI 00840 Virgin Islands (U.S.);X-APPLE-RADIUS=500;X-TITLE=William Roebuck Industrial Park\, #4 Negro Bay:geo:-64.7999261,17.7062406
END:VEVENT
BEGIN:VEVENT
DTSTART;TZID=America/St_Thomas:20260421T190000
DTEND;TZID=America/St_Thomas:20260421T220000
DTSTAMP:20260421T011839
CREATED:20260216T173114Z
LAST-MODIFIED:20260216T173127Z
UID:10015259-1776798000-1776808800@stxcalendar.com
SUMMARY:The Schindigglers
DESCRIPTION:
URL:https://stxcalendar.com/events-calendar/the-schindigglers-3/2026-04-21/
LOCATION:Brew STX\, 55 A&B Kings Alley\, Christiansted\, VI\, 00820\, Virgin Islands (U.S.)
CATEGORIES:Live Music
GEO:17.7468717;-64.703913
X-APPLE-STRUCTURED-LOCATION;VALUE=URI;X-ADDRESS=Brew STX 55 A&B Kings Alley Christiansted VI 00820 Virgin Islands (U.S.);X-APPLE-RADIUS=500;X-TITLE=55 A&B Kings Alley:geo:-64.703913,17.7468717
END:VEVENT
END:VCALENDAR